BEGIN:VCALENDAR
VERSION:2.0
PRODID:-//Lorena Uriarte - ECPv6.15.20//NONSGML v1.0//EN
CALSCALE:GREGORIAN
METHOD:PUBLISH
X-ORIGINAL-URL:https://lorenauriarte.com
X-WR-CALDESC:Events for Lorena Uriarte
REFRESH-INTERVAL;VALUE=DURATION:PT1H
X-Robots-Tag:noindex
X-PUBLISHED-TTL:PT1H
BEGIN:VTIMEZONE
TZID:Australia/Sydney
BEGIN:STANDARD
TZOFFSETFROM:+1100
TZOFFSETTO:+1000
TZNAME:AEST
DTSTART:20210403T160000
END:STANDARD
BEGIN:DAYLIGHT
TZOFFSETFROM:+1000
TZOFFSETTO:+1100
TZNAME:AEDT
DTSTART:20211002T160000
END:DAYLIGHT
BEGIN:STANDARD
TZOFFSETFROM:+1100
TZOFFSETTO:+1000
TZNAME:AEST
DTSTART:20220402T160000
END:STANDARD
BEGIN:DAYLIGHT
TZOFFSETFROM:+1000
TZOFFSETTO:+1100
TZNAME:AEDT
DTSTART:20221001T160000
END:DAYLIGHT
BEGIN:STANDARD
TZOFFSETFROM:+1100
TZOFFSETTO:+1000
TZNAME:AEST
DTSTART:20230401T160000
END:STANDARD
BEGIN:DAYLIGHT
TZOFFSETFROM:+1000
TZOFFSETTO:+1100
TZNAME:AEDT
DTSTART:20230930T160000
END:DAYLIGHT
END:VTIMEZONE
BEGIN:VEVENT
DTSTART;TZID=Australia/Sydney:20220504T100000
DTEND;TZID=Australia/Sydney:20220504T130000
DTSTAMP:20260424T114356
CREATED:20220420T231243Z
LAST-MODIFIED:20220509T051248Z
UID:10000189-1651658400-1651669200@lorenauriarte.com
SUMMARY:Kawandi : Melbourne
DESCRIPTION:A four hour Kawandi Workshop in Melbourne! \nClass fee includes a special kit with everything you need to complete a small kawandi piece and morning tea. \n \nAdditional Retreat bag kit is available to preorder for $40. \nPlease advise of any special dietary requirements. \nCovid protocols: Nobody wants to get sick. Please don’t attend if you are not feeling well. I test before every class and I expect students to do the same. N95 masks are available for any one who wishes to wear one. \nBook your spot here: https://lorenauriarte.com/product/kawandi-4th-may-melbourne/
URL:https://lorenauriarte.com/classes/kawandi-melbourne/
LOCATION:NSW
END:VEVENT
END:VCALENDAR