BEGIN:VCALENDAR
VERSION:2.0
PRODID:-//Lorena Uriarte - ECPv6.15.20//NONSGML v1.0//EN
CALSCALE:GREGORIAN
METHOD:PUBLISH
X-ORIGINAL-URL:https://lorenauriarte.com
X-WR-CALDESC:Events for Lorena Uriarte
REFRESH-INTERVAL;VALUE=DURATION:PT1H
X-Robots-Tag:noindex
X-PUBLISHED-TTL:PT1H
BEGIN:VTIMEZONE
TZID:Australia/Sydney
BEGIN:STANDARD
TZOFFSETFROM:+1100
TZOFFSETTO:+1000
TZNAME:AEST
DTSTART:20210403T160000
END:STANDARD
BEGIN:DAYLIGHT
TZOFFSETFROM:+1000
TZOFFSETTO:+1100
TZNAME:AEDT
DTSTART:20211002T160000
END:DAYLIGHT
BEGIN:STANDARD
TZOFFSETFROM:+1100
TZOFFSETTO:+1000
TZNAME:AEST
DTSTART:20220402T160000
END:STANDARD
BEGIN:DAYLIGHT
TZOFFSETFROM:+1000
TZOFFSETTO:+1100
TZNAME:AEDT
DTSTART:20221001T160000
END:DAYLIGHT
BEGIN:STANDARD
TZOFFSETFROM:+1100
TZOFFSETTO:+1000
TZNAME:AEST
DTSTART:20230401T160000
END:STANDARD
BEGIN:DAYLIGHT
TZOFFSETFROM:+1000
TZOFFSETTO:+1100
TZNAME:AEDT
DTSTART:20230930T160000
END:DAYLIGHT
END:VTIMEZONE
BEGIN:VEVENT
DTSTART;TZID=Australia/Sydney:20221210T100000
DTEND;TZID=Australia/Sydney:20221210T150000
DTSTAMP:20260423T083926
CREATED:20220706T015559Z
LAST-MODIFIED:20220812T043000Z
UID:10000387-1670666400-1670684400@lorenauriarte.com
SUMMARY:Warriewood : 60 Stitches
DESCRIPTION:  \n \nMonthly 2nd Saturdays \nDATES:\n10 December \n$85 fee includes morning tea and lunch \nBring your own pattern\, design something unique or work on one of my designs \nNEW VENUE! \n60 Stitches \n2301 / Level 3 \n4 Daydream St\, Warriewood \nhttps://lorenauriarte.com/product/warriewood-60-stitches/
URL:https://lorenauriarte.com/classes/warriewood-60-stitches-3/
LOCATION:60 Stitches\, 1301/ 4 Daydream St\, Warriewood\, NSW\, 2101\, Australia
END:VEVENT
END:VCALENDAR