BEGIN:VCALENDAR
VERSION:2.0
PRODID:-//Lorena Uriarte - ECPv6.15.20//NONSGML v1.0//EN
CALSCALE:GREGORIAN
METHOD:PUBLISH
X-ORIGINAL-URL:https://lorenauriarte.com
X-WR-CALDESC:Events for Lorena Uriarte
REFRESH-INTERVAL;VALUE=DURATION:PT1H
X-Robots-Tag:noindex
X-PUBLISHED-TTL:PT1H
BEGIN:VTIMEZONE
TZID:Australia/Sydney
BEGIN:STANDARD
TZOFFSETFROM:+1100
TZOFFSETTO:+1000
TZNAME:AEST
DTSTART:20220402T160000
END:STANDARD
BEGIN:DAYLIGHT
TZOFFSETFROM:+1000
TZOFFSETTO:+1100
TZNAME:AEDT
DTSTART:20221001T160000
END:DAYLIGHT
BEGIN:STANDARD
TZOFFSETFROM:+1100
TZOFFSETTO:+1000
TZNAME:AEST
DTSTART:20230401T160000
END:STANDARD
BEGIN:DAYLIGHT
TZOFFSETFROM:+1000
TZOFFSETTO:+1100
TZNAME:AEDT
DTSTART:20230930T160000
END:DAYLIGHT
BEGIN:STANDARD
TZOFFSETFROM:+1100
TZOFFSETTO:+1000
TZNAME:AEST
DTSTART:20240406T160000
END:STANDARD
BEGIN:DAYLIGHT
TZOFFSETFROM:+1000
TZOFFSETTO:+1100
TZNAME:AEDT
DTSTART:20241005T160000
END:DAYLIGHT
END:VTIMEZONE
BEGIN:VEVENT
DTSTART;TZID=Australia/Sydney:20230430T100000
DTEND;TZID=Australia/Sydney:20230430T150000
DTSTAMP:20260422T140118
CREATED:20230327T042427Z
LAST-MODIFIED:20230327T042427Z
UID:10000254-1682848800-1682866800@lorenauriarte.com
SUMMARY:Kawandi : UsefulBox Marrickville
DESCRIPTION:BEGINNER KAWANDI QUILT AS YOU GO CLASS\nJoin Lorena Uriarte\, renewed Modern Quilter\, to learn the basics of Kawandi Quilt as you go.\nSkill level: Complete beginner and ready to learn. \nWhat you will learn: \n\nBasic Quilt as you go Principles\n\nWhat is included: \n\nA full kit including needles\, thread\, pins\, fabric and batting.\nExceptional tuition with 11 others in the class\nCopious cups of tea and coffee\n\nWhat you need to bring \n\nNo need to bring your sewing machine.  Everything provided for hand stitching.\nThimble – choose a Clover branded silicon with metal tip thimble\nYour glasses\, if you need them\nYour lunch – microwave\, sandwich press and fridge available.  Or trot up to a local cafe!\n\nDates available: \nSunday 30 April\, 10am to 3pm
URL:https://lorenauriarte.com/classes/kawandi-usefulbox-marrickville-3/
LOCATION:UsefulBox\, 39-43 Shepherd St\, Marrickville\, NSW\, 2204\, Australia
END:VEVENT
END:VCALENDAR