BEGIN:VCALENDAR
VERSION:2.0
PRODID:-//Lorena Uriarte - ECPv6.15.20//NONSGML v1.0//EN
CALSCALE:GREGORIAN
METHOD:PUBLISH
X-ORIGINAL-URL:https://lorenauriarte.com
X-WR-CALDESC:Events for Lorena Uriarte
REFRESH-INTERVAL;VALUE=DURATION:PT1H
X-Robots-Tag:noindex
X-PUBLISHED-TTL:PT1H
BEGIN:VTIMEZONE
TZID:Australia/Sydney
BEGIN:STANDARD
TZOFFSETFROM:+1100
TZOFFSETTO:+1000
TZNAME:AEST
DTSTART:20220402T160000
END:STANDARD
BEGIN:DAYLIGHT
TZOFFSETFROM:+1000
TZOFFSETTO:+1100
TZNAME:AEDT
DTSTART:20221001T160000
END:DAYLIGHT
BEGIN:STANDARD
TZOFFSETFROM:+1100
TZOFFSETTO:+1000
TZNAME:AEST
DTSTART:20230401T160000
END:STANDARD
BEGIN:DAYLIGHT
TZOFFSETFROM:+1000
TZOFFSETTO:+1100
TZNAME:AEDT
DTSTART:20230930T160000
END:DAYLIGHT
BEGIN:STANDARD
TZOFFSETFROM:+1100
TZOFFSETTO:+1000
TZNAME:AEST
DTSTART:20240406T160000
END:STANDARD
BEGIN:DAYLIGHT
TZOFFSETFROM:+1000
TZOFFSETTO:+1100
TZNAME:AEDT
DTSTART:20241005T160000
END:DAYLIGHT
END:VTIMEZONE
BEGIN:VEVENT
DTSTART;TZID=Australia/Sydney:20230607T100000
DTEND;TZID=Australia/Sydney:20230607T153000
DTSTAMP:20260422T083605
CREATED:20230505T011654Z
LAST-MODIFIED:20230505T025411Z
UID:10000262-1686132000-1686151800@lorenauriarte.com
SUMMARY:Winding Ways Workshop : Gallery 76
DESCRIPTION:Join me for a fun and educational one-day patchwork workshop on Wednesday\, 7 June\, 2023\, from 10 am to 3:30 pm at Gallery 76 on 76 Queen Street\, Concord West. \nThis workshop is perfect for those who are passionate about patchwork and want to learn how to create unique designs using the beautiful Winding Ways block\, also known as the Wheel of Mystery. \nDuring the workshop\, we will discover how to create a scrappy look that focuses on colour and value to make those secondary designs pop. We will also learn how to make it modern by focusing on the principles of negative space\, minimalism\, and strong graphic lines. For those who want to take it up a notch\, we will also cover fussy cutting techniques that can add an exciting twist to your designs. \nThroughout the day\, you will learn tips for accurate cutting and straightforward piecing\, and you will make enough blocks to create a cushion or a small quilt. If you’re feeling ambitious\, keep going to make a bed-sized quilt. We will provide all the equipment you need\, including cutting mats\, rotary cutters\, pressing stations\, templates in a variety of sizes from 6” to 24”\, and a variety of solid and print fabrics to play with. \nTo participate\, bring your sewing machine with a 1/4” patchwork foot or hand piecing supplies\, fine piecing cotton (e.g.\, Aurifil 50wt)\, a piece of batting or flannel to use as a design wall (optional)\, and any special fabric you would like to include. \nThe workshop fee is $165\, and it includes morning tea and refreshments. You can also preorder acrylic templates to make 6” or 12” blocks\, Roxanne’s Glue Baste-it\, or a 28mm rotary cutter to take home with you. \nDon’t miss out on this fantastic opportunity to learn in this lovely gallery setting and create beautiful designs with like-minded individuals. Book your spot online or contact me for more information. We look forward to seeing you there!
URL:https://lorenauriarte.com/classes/winding-ways-workshop-gallery-76/
LOCATION:Gallery 76\, 76 Queen St\, Concord West\, NSW\, 2138\, Australia
END:VEVENT
END:VCALENDAR