BEGIN:VCALENDAR
VERSION:2.0
PRODID:-//Lorena Uriarte - ECPv6.15.20//NONSGML v1.0//EN
CALSCALE:GREGORIAN
METHOD:PUBLISH
X-ORIGINAL-URL:https://lorenauriarte.com
X-WR-CALDESC:Events for Lorena Uriarte
REFRESH-INTERVAL;VALUE=DURATION:PT1H
X-Robots-Tag:noindex
X-PUBLISHED-TTL:PT1H
BEGIN:VTIMEZONE
TZID:Australia/Sydney
BEGIN:STANDARD
TZOFFSETFROM:+1100
TZOFFSETTO:+1000
TZNAME:AEST
DTSTART:20220402T160000
END:STANDARD
BEGIN:DAYLIGHT
TZOFFSETFROM:+1000
TZOFFSETTO:+1100
TZNAME:AEDT
DTSTART:20221001T160000
END:DAYLIGHT
BEGIN:STANDARD
TZOFFSETFROM:+1100
TZOFFSETTO:+1000
TZNAME:AEST
DTSTART:20230401T160000
END:STANDARD
BEGIN:DAYLIGHT
TZOFFSETFROM:+1000
TZOFFSETTO:+1100
TZNAME:AEDT
DTSTART:20230930T160000
END:DAYLIGHT
BEGIN:STANDARD
TZOFFSETFROM:+1100
TZOFFSETTO:+1000
TZNAME:AEST
DTSTART:20240406T160000
END:STANDARD
BEGIN:DAYLIGHT
TZOFFSETFROM:+1000
TZOFFSETTO:+1100
TZNAME:AEDT
DTSTART:20241005T160000
END:DAYLIGHT
END:VTIMEZONE
BEGIN:VEVENT
DTSTART;TZID=Australia/Sydney:20230625T100000
DTEND;TZID=Australia/Sydney:20230625T153000
DTSTAMP:20260422T102537
CREATED:20230605T025630Z
LAST-MODIFIED:20230605T031411Z
UID:10000263-1687687200-1687707000@lorenauriarte.com
SUMMARY:EPP Palooza : Gallery 76
DESCRIPTION:Join me for this exciting event\, the EPP Palooza\, on Sunday\, June 25th\, from 10am to 3:30pm at Gallery 76! \nImmerse yourself in the world of hand-stitched goodness as you learn the art of fussy cutting and English paper piecing (EPP) for both curves and geometric shapes. Whether you’re a beginner or have some experience\, this workshop offers something for everyone. \nDuring the workshop\, you can choose to make a cushion\, start a quilt\, or bring along an item of clothing to embellish with EPP. Whatever you decide\, rest assured that everyone will receive a complete tool kit for their chosen project\, ensuring you have everything you need to dive right in. \nPlus\, each participant will receive a special limited edition Hexie Name Badge kit to make for yourself or a friend! \nThe cost to attend this EPP Palooza event is $165\, which includes a scrumptious morning tea and refreshments to keep you energized throughout the day. We will also provide all the necessary materials for cutting\, basting\, and sewing. However\, if you have specific fabric preferences or prefer to use your own sewing supplies\, feel free to bring them along. \nDon’t miss this opportunity to join fellow EPP enthusiasts\, indulge in a day of creativity\, and expand your stitching repertoire. Spaces are limited\, so be sure to reserve your spot early to secure a place at this hand stitching workshop. \nPLEASE SELECT FROM: \nBlissful Abandon Kit – Fussy Cutting 1″ hexagons \nHoneycomb Studs Cushion kit- 1″ elongated hexagons and squares \nMini Opal EPP Cushion Kit – my latest epp pattern\, a mini version of Opal Essence Quilt \nKits include templates\, papers\, glue stick\, thread and needles. \nFabric kits also available\, place your request and I will put one together for you! \n(An email will be sent out to all participants requesting further information!) \nNote: This event is being held alongside the In Conversation exhibition being held at Gallery 76. You will have time before class to view the exhibition. \n  \nhttps://lorenauriarte.com/product/epp-palooza-25-june-gallery-76/ \n 
URL:https://lorenauriarte.com/classes/epp-palooza-gallery-76/
LOCATION:Gallery 76\, 76 Queen St\, Concord West\, NSW\, 2138\, Australia
ATTACH;FMTTYPE=image/jpeg:https://lorenauriarte.com/wp-content/uploads/2023/06/7824B55A-999B-407B-80A4-5F7E87BF64D7-scaled.jpg
END:VEVENT
END:VCALENDAR