BEGIN:VCALENDAR
VERSION:2.0
PRODID:-//Lorena Uriarte - ECPv6.15.20//NONSGML v1.0//EN
CALSCALE:GREGORIAN
METHOD:PUBLISH
X-WR-CALNAME:Lorena Uriarte
X-ORIGINAL-URL:https://lorenauriarte.com
X-WR-CALDESC:Events for Lorena Uriarte
REFRESH-INTERVAL;VALUE=DURATION:PT1H
X-Robots-Tag:noindex
X-PUBLISHED-TTL:PT1H
BEGIN:VTIMEZONE
TZID:Australia/Sydney
BEGIN:STANDARD
TZOFFSETFROM:+1100
TZOFFSETTO:+1000
TZNAME:AEST
DTSTART:20220402T160000
END:STANDARD
BEGIN:DAYLIGHT
TZOFFSETFROM:+1000
TZOFFSETTO:+1100
TZNAME:AEDT
DTSTART:20221001T160000
END:DAYLIGHT
BEGIN:STANDARD
TZOFFSETFROM:+1100
TZOFFSETTO:+1000
TZNAME:AEST
DTSTART:20230401T160000
END:STANDARD
BEGIN:DAYLIGHT
TZOFFSETFROM:+1000
TZOFFSETTO:+1100
TZNAME:AEDT
DTSTART:20230930T160000
END:DAYLIGHT
BEGIN:STANDARD
TZOFFSETFROM:+1100
TZOFFSETTO:+1000
TZNAME:AEST
DTSTART:20240406T160000
END:STANDARD
BEGIN:DAYLIGHT
TZOFFSETFROM:+1000
TZOFFSETTO:+1100
TZNAME:AEDT
DTSTART:20241005T160000
END:DAYLIGHT
END:VTIMEZONE
BEGIN:VEVENT
DTSTART;TZID=Australia/Sydney:20230628T100000
DTEND;TZID=Australia/Sydney:20230701T160000
DTSTAMP:20260422T015720
CREATED:20221218T131332Z
LAST-MODIFIED:20221218T131332Z
UID:10000423-1687946400-1688227200@lorenauriarte.com
SUMMARY:Australian Quilt Show : The Dome\, Sydney Olympic Park
DESCRIPTION:Exhibitor
URL:https://lorenauriarte.com/classes/australian-quilt-show-the-dome-sydney-olympic-park/
LOCATION:NSW
END:VEVENT
BEGIN:VEVENT
DTSTART;TZID=Australia/Sydney:20230701T100000
DTEND;TZID=Australia/Sydney:20230701T150000
DTSTAMP:20260422T015720
CREATED:20221218T131531Z
LAST-MODIFIED:20221218T131531Z
UID:10000424-1688205600-1688223600@lorenauriarte.com
SUMMARY:Quilt Coat : UsefulBox\, Marrickville
DESCRIPTION:
URL:https://lorenauriarte.com/classes/quilt-coat-usefulbox-marrickville-2/
LOCATION:UsefulBox\, 39-43 Shepherd St\, Marrickville\, NSW\, 2204\, Australia
END:VEVENT
END:VCALENDAR