BEGIN:VCALENDAR
VERSION:2.0
PRODID:-//Lorena Uriarte - ECPv6.15.20//NONSGML v1.0//EN
CALSCALE:GREGORIAN
METHOD:PUBLISH
X-ORIGINAL-URL:https://lorenauriarte.com
X-WR-CALDESC:Events for Lorena Uriarte
REFRESH-INTERVAL;VALUE=DURATION:PT1H
X-Robots-Tag:noindex
X-PUBLISHED-TTL:PT1H
BEGIN:VTIMEZONE
TZID:Australia/Sydney
BEGIN:STANDARD
TZOFFSETFROM:+1100
TZOFFSETTO:+1000
TZNAME:AEST
DTSTART:20220402T160000
END:STANDARD
BEGIN:DAYLIGHT
TZOFFSETFROM:+1000
TZOFFSETTO:+1100
TZNAME:AEDT
DTSTART:20221001T160000
END:DAYLIGHT
BEGIN:STANDARD
TZOFFSETFROM:+1100
TZOFFSETTO:+1000
TZNAME:AEST
DTSTART:20230401T160000
END:STANDARD
BEGIN:DAYLIGHT
TZOFFSETFROM:+1000
TZOFFSETTO:+1100
TZNAME:AEDT
DTSTART:20230930T160000
END:DAYLIGHT
BEGIN:STANDARD
TZOFFSETFROM:+1100
TZOFFSETTO:+1000
TZNAME:AEST
DTSTART:20240406T160000
END:STANDARD
BEGIN:DAYLIGHT
TZOFFSETFROM:+1000
TZOFFSETTO:+1100
TZNAME:AEDT
DTSTART:20241005T160000
END:DAYLIGHT
END:VTIMEZONE
BEGIN:VEVENT
DTSTART;TZID=Australia/Sydney:20231108T130000
DTEND;TZID=Australia/Sydney:20231108T150000
DTSTAMP:20260421T094907
CREATED:20230213T095413Z
LAST-MODIFIED:20230213T095413Z
UID:10000434-1699448400-1699455600@lorenauriarte.com
SUMMARY:Berry Quilt & Co
DESCRIPTION:Anything Goes sessions \n8 March \n10 May \n12 July \n13 September \n8 November \n  \nmore info here: https://www.berryquiltandco.com.au/events/lorena_anything_goes/
URL:https://lorenauriarte.com/classes/berry-quilt-co-5/
LOCATION:Berry Quilt & Co\, SHOPS 4+5 / 66 ALBERT ST\, Berry\, NSW\, 2535\, Australia
END:VEVENT
END:VCALENDAR