BEGIN:VCALENDAR
VERSION:2.0
PRODID:-//Lorena Uriarte - ECPv6.15.20//NONSGML v1.0//EN
CALSCALE:GREGORIAN
METHOD:PUBLISH
X-ORIGINAL-URL:https://lorenauriarte.com
X-WR-CALDESC:Events for Lorena Uriarte
REFRESH-INTERVAL;VALUE=DURATION:PT1H
X-Robots-Tag:noindex
X-PUBLISHED-TTL:PT1H
BEGIN:VTIMEZONE
TZID:Australia/Sydney
BEGIN:STANDARD
TZOFFSETFROM:+1100
TZOFFSETTO:+1000
TZNAME:AEST
DTSTART:20220402T160000
END:STANDARD
BEGIN:DAYLIGHT
TZOFFSETFROM:+1000
TZOFFSETTO:+1100
TZNAME:AEDT
DTSTART:20221001T160000
END:DAYLIGHT
BEGIN:STANDARD
TZOFFSETFROM:+1100
TZOFFSETTO:+1000
TZNAME:AEST
DTSTART:20230401T160000
END:STANDARD
BEGIN:DAYLIGHT
TZOFFSETFROM:+1000
TZOFFSETTO:+1100
TZNAME:AEDT
DTSTART:20230930T160000
END:DAYLIGHT
BEGIN:STANDARD
TZOFFSETFROM:+1100
TZOFFSETTO:+1000
TZNAME:AEST
DTSTART:20240406T160000
END:STANDARD
BEGIN:DAYLIGHT
TZOFFSETFROM:+1000
TZOFFSETTO:+1100
TZNAME:AEDT
DTSTART:20241005T160000
END:DAYLIGHT
END:VTIMEZONE
BEGIN:VEVENT
DTSTART;TZID=Australia/Sydney:20231119T100000
DTEND;TZID=Australia/Sydney:20231119T150000
DTSTAMP:20260421T112624
CREATED:20230713T131627Z
LAST-MODIFIED:20230713T131627Z
UID:10000281-1700388000-1700406000@lorenauriarte.com
SUMMARY:Beyond Beginner Quilting: UsefulBox Marrickville
DESCRIPTION:You can choose your own adventure with this class.  Each week we will build on the skills learnt from the previous week to create a 12inch colourful Sampler quilt\, or You are welcome to bring your own project and have guidance each week from Lorena \nSkill level: You must know the basics of sewing and be fairly confident with your machine\, and have done some quilting before. \nWhat you will learn: \n\nMore complex Quilting Principals\n\nWhat is included: \n\nSome fabrics\nPatterns to take home\nExceptional tuition with only 5 others in the class\nCopious cups of tea and coffee\n\nWhat you need to bring \n\nFabric and Thread – notes given in booking confirmation.\nYour machine along with all it’s power cords and the foot pedal\nThe machines accessories\, especially all the feet\nYour fabric scissors and sewing kit\n\nDates available: \n3 classes in total – Sundays 19 November\, 26 November and 3 December \n10am to 3pm each week
URL:https://lorenauriarte.com/classes/beyond-beginner-quilting-usefulbox-marrickville/
LOCATION:UsefulBox\, 39-43 Shepherd St\, Marrickville\, NSW\, 2204\, Australia
END:VEVENT
BEGIN:VEVENT
DTSTART;TZID=Australia/Sydney:20231119T100000
DTEND;TZID=Australia/Sydney:20231119T150000
DTSTAMP:20260421T112624
CREATED:20231026T232520Z
LAST-MODIFIED:20231026T232520Z
UID:10000471-1700388000-1700406000@lorenauriarte.com
SUMMARY:RETREAT BAG: UsefulBox : Marrickville
DESCRIPTION:If you’ve always wanted to make a structured zipper pouch\, one that stands up and opens wide\, this is the pattern for you! \nBring your finished Kawandi panels (or maybe some other stitched or beautiful fabric?) and turn it into this practical pouch. \nAll the hardware is included\, you will need your sewing machine and your sewing kit. \nSee the UsefulBox listing here for more details: \nhttps://usefulbox.com.au/products/quilted-retreat-bag \n \n \nt
URL:https://lorenauriarte.com/classes/retreat-bag-usefulbox-marrickville/
LOCATION:UsefulBox\, 39-43 Shepherd St\, Marrickville\, NSW\, 2204\, Australia
END:VEVENT
END:VCALENDAR