BEGIN:VCALENDAR
VERSION:2.0
PRODID:-//Lorena Uriarte - ECPv6.15.20//NONSGML v1.0//EN
CALSCALE:GREGORIAN
METHOD:PUBLISH
X-ORIGINAL-URL:https://lorenauriarte.com
X-WR-CALDESC:Events for Lorena Uriarte
REFRESH-INTERVAL;VALUE=DURATION:PT1H
X-Robots-Tag:noindex
X-PUBLISHED-TTL:PT1H
BEGIN:VTIMEZONE
TZID:Australia/Sydney
BEGIN:STANDARD
TZOFFSETFROM:+1100
TZOFFSETTO:+1000
TZNAME:AEST
DTSTART:20230401T160000
END:STANDARD
BEGIN:DAYLIGHT
TZOFFSETFROM:+1000
TZOFFSETTO:+1100
TZNAME:AEDT
DTSTART:20230930T160000
END:DAYLIGHT
BEGIN:STANDARD
TZOFFSETFROM:+1100
TZOFFSETTO:+1000
TZNAME:AEST
DTSTART:20240406T160000
END:STANDARD
BEGIN:DAYLIGHT
TZOFFSETFROM:+1000
TZOFFSETTO:+1100
TZNAME:AEDT
DTSTART:20241005T160000
END:DAYLIGHT
BEGIN:STANDARD
TZOFFSETFROM:+1100
TZOFFSETTO:+1000
TZNAME:AEST
DTSTART:20250405T160000
END:STANDARD
BEGIN:DAYLIGHT
TZOFFSETFROM:+1000
TZOFFSETTO:+1100
TZNAME:AEDT
DTSTART:20251004T160000
END:DAYLIGHT
END:VTIMEZONE
BEGIN:VEVENT
DTSTART;VALUE=DATE:20240524
DTEND;VALUE=DATE:20240526
DTSTAMP:20260420T155913
CREATED:20240208T001305Z
LAST-MODIFIED:20240208T001425Z
UID:10000312-1716508800-1716681599@lorenauriarte.com
SUMMARY:Quilt Coat (2 Days): Precious Time\, TOOWOOMBA
DESCRIPTION:Contact Precious Time Fabric & Quilts directly for booking information. \n 
URL:https://lorenauriarte.com/classes/quilt-coat-2-days-precious-time-toowoomba/
LOCATION:Precious Time Fabric & Quilts\, 29 David St\, Toowoomba\, Queensland\, Australia
CATEGORIES:Precious Time Fabric & Quilts
ATTACH;FMTTYPE=image/jpeg:https://lorenauriarte.com/wp-content/uploads/2023/06/Quilt-coats-many.jpg
ORGANIZER;CN="Precious Time Fabric & Quilts":MAILTO:sales@precioustimefabricandquilts.com.au
END:VEVENT
END:VCALENDAR