BEGIN:VCALENDAR
VERSION:2.0
PRODID:-//Lorena Uriarte - ECPv6.15.20//NONSGML v1.0//EN
CALSCALE:GREGORIAN
METHOD:PUBLISH
X-WR-CALNAME:Lorena Uriarte
X-ORIGINAL-URL:https://lorenauriarte.com
X-WR-CALDESC:Events for Lorena Uriarte
REFRESH-INTERVAL;VALUE=DURATION:PT1H
X-Robots-Tag:noindex
X-PUBLISHED-TTL:PT1H
BEGIN:VTIMEZONE
TZID:Australia/Sydney
BEGIN:STANDARD
TZOFFSETFROM:+1100
TZOFFSETTO:+1000
TZNAME:AEST
DTSTART:20170401T160000
END:STANDARD
BEGIN:DAYLIGHT
TZOFFSETFROM:+1000
TZOFFSETTO:+1100
TZNAME:AEDT
DTSTART:20170930T160000
END:DAYLIGHT
BEGIN:STANDARD
TZOFFSETFROM:+1100
TZOFFSETTO:+1000
TZNAME:AEST
DTSTART:20180331T160000
END:STANDARD
BEGIN:DAYLIGHT
TZOFFSETFROM:+1000
TZOFFSETTO:+1100
TZNAME:AEDT
DTSTART:20181006T160000
END:DAYLIGHT
BEGIN:STANDARD
TZOFFSETFROM:+1100
TZOFFSETTO:+1000
TZNAME:AEST
DTSTART:20190406T160000
END:STANDARD
BEGIN:DAYLIGHT
TZOFFSETFROM:+1000
TZOFFSETTO:+1100
TZNAME:AEDT
DTSTART:20191005T160000
END:DAYLIGHT
BEGIN:STANDARD
TZOFFSETFROM:+1100
TZOFFSETTO:+1000
TZNAME:AEST
DTSTART:20200404T160000
END:STANDARD
BEGIN:DAYLIGHT
TZOFFSETFROM:+1000
TZOFFSETTO:+1100
TZNAME:AEDT
DTSTART:20201003T160000
END:DAYLIGHT
END:VTIMEZONE
BEGIN:VEVENT
DTSTART;TZID=Australia/Sydney:20190918T100000
DTEND;TZID=Australia/Sydney:20190918T160000
DTSTAMP:20260422T061529
CREATED:20181219T052853Z
LAST-MODIFIED:20190805T012844Z
UID:10000324-1568800800-1568822400@lorenauriarte.com
SUMMARY:My Sewing Supplies :: Sylvania
DESCRIPTION:Lorena Uriarte – Ring Cycles \nLorena has the permission from Lessa Siegele to teach a workshop based on her Ring Cycles quilt. We will explore different options for making this fantastic pattern into your own beautiful quilt. Use low volume backgrounds with brights\, colourful large scale prints or make a gorgeous two colour quilt. \nDay 1 would be cutting\, making 9 patches and choosing middle hexagon method eg. Appliqued flower\, pieced star\, or plain hexagon. Day 2 is learning how to sew your quilt together. \nCloser to the date you will receive a detailed requirements list. Lorena has used and recommend Marti Michell set H and has also had setting triangles made up in acrylic templates. These are entirely optional (and will be available for purchase)\, and really helpful if you intend to make a big quilt. \n10am – 4pm \n  \n3 day workshop \nWednesdays \n17 July \n21 August \n18 September \n$210 tuition \nPattern is required in addition to this \n$105 payable on booking \n$35 payable on each of the class days
URL:https://lorenauriarte.com/classes/my-sewing-supplies-kirrawee-29/
LOCATION:My Sewing Supplies\, 208 Princess Hwy\, Sylvania\, NSW\, 2224\, Australia
CATEGORIES:My Sewing Supplies
END:VEVENT
BEGIN:VEVENT
DTSTART;TZID=Australia/Sydney:20190821T100000
DTEND;TZID=Australia/Sydney:20190821T160000
DTSTAMP:20260422T061529
CREATED:20181219T052800Z
LAST-MODIFIED:20190805T012745Z
UID:10000323-1566381600-1566403200@lorenauriarte.com
SUMMARY:My Sewing Supplies :: Sylvania
DESCRIPTION:Lorena Uriarte – Ring Cycles \nLorena has the permission from Lessa Siegele to teach a workshop based on her Ring Cycles quilt. We will explore different options for making this fantastic pattern into your own beautiful quilt. Use low volume backgrounds with brights\, colourful large scale prints or make a gorgeous two colour quilt. \nDay 1 would be cutting\, making 9 patches and choosing middle hexagon method eg. Appliqued flower\, pieced star\, or plain hexagon. Day 2 is learning how to sew your quilt together. \nCloser to the date you will receive a detailed requirements list. Lorena has used and recommend Marti Michell set H and has also had setting triangles made up in acrylic templates. These are entirely optional (and will be available for purchase)\, and really helpful if you intend to make a big quilt. \n10am – 4pm \n  \n3 day workshop \nWednesdays \n17 July \n21 August \n18 September \n$210 tuition \nPattern is required in addition to this \n$105 payable on booking \n$35 payable on each of the class days
URL:https://lorenauriarte.com/classes/my-sewing-supplies-kirrawee-28/
LOCATION:My Sewing Supplies\, 208 Princess Hwy\, Sylvania\, NSW\, 2224\, Australia
CATEGORIES:My Sewing Supplies
END:VEVENT
BEGIN:VEVENT
DTSTART;TZID=Australia/Sydney:20190717T100000
DTEND;TZID=Australia/Sydney:20190717T160000
DTSTAMP:20260422T061529
CREATED:20181219T051250Z
LAST-MODIFIED:20190702T230924Z
UID:10000322-1563357600-1563379200@lorenauriarte.com
SUMMARY:My Sewing Supplies :: Sylvania
DESCRIPTION:Lorena Uriarte – Ring Cycles \nLorena has the permission from Lessa Siegele to teach a workshop based on her Ring Cycles quilt. We will explore different options for making this fantastic pattern into your own beautiful quilt. Use low volume backgrounds with brights\, colourful large scale prints or make a gorgeous two colour quilt. \nDay 1 would be cutting\, making 9 patches and choosing middle hexagon method eg. Appliqued flower\, pieced star\, or plain hexagon. Day 2 is learning how to sew your quilt together. \nCloser to the date you will receive a detailed requirements list. Lorena has used and recommend Marti Michell set H and has also had setting triangles made up in acrylic templates. These are entirely optional (and will be available for purchase)\, and really helpful if you intend to make a big quilt. \n10am – 4pm \n  \n3 day workshop \nWednesdays \n17 July \n21 August \n18 September \n$210 tuition \nPattern is required in addition to this \n$105 payable on booking \n$35 payable on each of the class days
URL:https://lorenauriarte.com/classes/my-sewing-supplies-sylvania-27/
LOCATION:My Sewing Supplies\, 208 Princess Hwy\, Sylvania\, NSW\, 2224\, Australia
CATEGORIES:My Sewing Supplies
END:VEVENT
BEGIN:VEVENT
DTSTART;TZID=Australia/Sydney:20190515T100000
DTEND;TZID=Australia/Sydney:20190515T160000
DTSTAMP:20260422T061529
CREATED:20181219T050036Z
LAST-MODIFIED:20181219T050036Z
UID:10000320-1557914400-1557936000@lorenauriarte.com
SUMMARY:My Sewing Supplies :: Kirrawee
DESCRIPTION:https://www.mysewingsupplies.com.au/product-page/beginner-s-sampler-classes \n \nLearn the basics for patchwork piecing \n(Existing students may attend and continue with current projects) \n  \n10am – 4pm \n4 day workshop \n  \nWednesdays \n20 February \n20 March \n17 April \n15 May \n  \n$280 tuition total \n$140 payable on booking – paid through the website now \n$35 payable on each of the class days \nIt has options to do varying blocks or to make a quilt repeating the block you like. \n  \nLorena will show you how to make clocks and guide you to make a quilt that has your style built into it. \n  \n12” Sampler Quilt requirements\nIt is recommended beginners start with a FQ bundle plus one background fabric. This gives them enough variety of fabrics to explore value and tone.\nFor the 75” x 75” quilt Lorena recommends purchasing 3 metres of the neutral background\, this yardage includes the flying geese border for the 75” x 75” quilt.\nShe has layouts available for Cot\, Twin and Large sizes. The largest quilt requires 16 blocks. The smallest is 6 blocks.\nThe amount of fabric varies accordingly.\nShe will provide patterns and templates to use for specific blocks.\n  \nThe fabric/ requirements are in addition to the tuition fee. Price will depend on what you choose. We have a big selection and price point in store. We are happy to help you.
URL:https://lorenauriarte.com/classes/my-sewing-supplies-kirrawee-25/
LOCATION:My Sewing Supplies\, 208 Princess Hwy\, Sylvania\, NSW\, 2224\, Australia
CATEGORIES:My Sewing Supplies
END:VEVENT
BEGIN:VEVENT
DTSTART;TZID=Australia/Sydney:20190417T100000
DTEND;TZID=Australia/Sydney:20190417T160000
DTSTAMP:20260422T061529
CREATED:20181219T045737Z
LAST-MODIFIED:20181219T045737Z
UID:10000319-1555495200-1555516800@lorenauriarte.com
SUMMARY:My Sewing Supplies :: Kirrawee
DESCRIPTION:https://www.mysewingsupplies.com.au/product-page/beginner-s-sampler-classes \n \nLearn the basics for patchwork piecing \n(Existing students may attend and continue with current projects) \n  \n10am – 4pm \n4 day workshop \n  \nWednesdays \n20 February \n20 March \n17 April \n15 May \n  \n$280 tuition total \n$140 payable on booking – paid through the website now \n$35 payable on each of the class days \nIt has options to do varying blocks or to make a quilt repeating the block you like. \n  \nLorena will show you how to make clocks and guide you to make a quilt that has your style built into it. \n  \n12” Sampler Quilt requirements\nIt is recommended beginners start with a FQ bundle plus one background fabric. This gives them enough variety of fabrics to explore value and tone.\nFor the 75” x 75” quilt Lorena recommends purchasing 3 metres of the neutral background\, this yardage includes the flying geese border for the 75” x 75” quilt.\nShe has layouts available for Cot\, Twin and Large sizes. The largest quilt requires 16 blocks. The smallest is 6 blocks.\nThe amount of fabric varies accordingly.\nShe will provide patterns and templates to use for specific blocks.\n  \nThe fabric/ requirements are in addition to the tuition fee. Price will depend on what you choose. We have a big selection and price point in store. We are happy to help you.
URL:https://lorenauriarte.com/classes/my-sewing-supplies-kirrawee-24/
LOCATION:My Sewing Supplies\, 208 Princess Hwy\, Sylvania\, NSW\, 2224\, Australia
CATEGORIES:My Sewing Supplies
END:VEVENT
BEGIN:VEVENT
DTSTART;TZID=Australia/Sydney:20190320T100000
DTEND;TZID=Australia/Sydney:20190320T160000
DTSTAMP:20260422T061529
CREATED:20181219T045631Z
LAST-MODIFIED:20181219T045631Z
UID:10000318-1553076000-1553097600@lorenauriarte.com
SUMMARY:My Sewing Supplies :: Kirrawee
DESCRIPTION:https://www.mysewingsupplies.com.au/product-page/beginner-s-sampler-classes \n \nLearn the basics for patchwork piecing \n(Existing students may attend and continue with current projects) \n  \n10am – 4pm \n4 day workshop \n  \nWednesdays \n20 February \n20 March \n17 April \n15 May \n  \n$280 tuition total \n$140 payable on booking – paid through the website now \n$35 payable on each of the class days \nIt has options to do varying blocks or to make a quilt repeating the block you like. \n  \nLorena will show you how to make clocks and guide you to make a quilt that has your style built into it. \n  \n12” Sampler Quilt requirements\nIt is recommended beginners start with a FQ bundle plus one background fabric. This gives them enough variety of fabrics to explore value and tone.\nFor the 75” x 75” quilt Lorena recommends purchasing 3 metres of the neutral background\, this yardage includes the flying geese border for the 75” x 75” quilt.\nShe has layouts available for Cot\, Twin and Large sizes. The largest quilt requires 16 blocks. The smallest is 6 blocks.\nThe amount of fabric varies accordingly.\nShe will provide patterns and templates to use for specific blocks.\n  \nThe fabric/ requirements are in addition to the tuition fee. Price will depend on what you choose. We have a big selection and price point in store. We are happy to help you.
URL:https://lorenauriarte.com/classes/my-sewing-supplies-kirrawee-23/
LOCATION:My Sewing Supplies\, 208 Princess Hwy\, Sylvania\, NSW\, 2224\, Australia
CATEGORIES:My Sewing Supplies
END:VEVENT
BEGIN:VEVENT
DTSTART;TZID=Australia/Sydney:20190316T100000
DTEND;TZID=Australia/Sydney:20190316T160000
DTSTAMP:20260422T061529
CREATED:20181219T053526Z
LAST-MODIFIED:20181219T053535Z
UID:10000325-1552730400-1552752000@lorenauriarte.com
SUMMARY:My Sewing Supplies :: Kirrawee
DESCRIPTION:Lorena Uriarte – Ring Cycles \nLorena has the permission from Lessa Siegele to teach a workshop based on her Ring Cycles quilt. We will explore different options for making this fantastic pattern into your own beautiful quilt. Use low volume backgrounds with brights\, colourful large scale prints or make a gorgeous two colour quilt. \nDay 1 would be cutting\, making 9 patches and choosing middle hexagon method eg. Appliqued flower\, pieced star\, or plain hexagon. Day 2 is learning how to sew your quilt together. \nCloser to the date you will receive a detailed requirements list. Lorena has used and recommend Marti Michell set H and has also had setting triangles made up in acrylic templates. These are entirely optional (and will be available for purchase)\, and really helpful if you intend to make a big quilt. \n10am – 4pm \n2 day workshop \nSaturdays \n16 February \n16 March \n$140 tuition \nPattern and fabric are required in addition to this \n$70 payable on booking \n$35 payable on each of the class days
URL:https://lorenauriarte.com/classes/my-sewing-supplies-kirrawee-30/
LOCATION:My Sewing Supplies\, 208 Princess Hwy\, Sylvania\, NSW\, 2224\, Australia
CATEGORIES:My Sewing Supplies
END:VEVENT
BEGIN:VEVENT
DTSTART;TZID=Australia/Sydney:20190216T100000
DTEND;TZID=Australia/Sydney:20190216T160000
DTSTAMP:20260422T061529
CREATED:20181219T051005Z
LAST-MODIFIED:20181219T051005Z
UID:10000321-1550311200-1550332800@lorenauriarte.com
SUMMARY:My Sewing Supplies :: Kirrawee
DESCRIPTION:Lorena Uriarte – Ring Cycles \nLorena has the permission from Lessa Siegele to teach a workshop based on her Ring Cycles quilt. We will explore different options for making this fantastic pattern into your own beautiful quilt. Use low volume backgrounds with brights\, colourful large scale prints or make a gorgeous two colour quilt. \nDay 1 would be cutting\, making 9 patches and choosing middle hexagon method eg. Appliqued flower\, pieced star\, or plain hexagon. Day 2 is learning how to sew your quilt together. \nCloser to the date you will receive a detailed requirements list. Lorena has used and recommend Marti Michell set H and has also had setting triangles made up in acrylic templates. These are entirely optional (and will be available for purchase)\, and really helpful if you intend to make a big quilt. \n10am – 4pm \n2 day workshop \nSaturdays \n16 February \n16 March \n$140 tuition \nPattern and fabric are required in addition to this \n$70 payable on booking \n$35 payable on each of the class days
URL:https://lorenauriarte.com/classes/my-sewing-supplies-kirrawee-26/
LOCATION:My Sewing Supplies\, 208 Princess Hwy\, Sylvania\, NSW\, 2224\, Australia
CATEGORIES:My Sewing Supplies
END:VEVENT
BEGIN:VEVENT
DTSTART;TZID=Australia/Sydney:20181215T100000
DTEND;TZID=Australia/Sydney:20181215T150000
DTSTAMP:20260422T061529
CREATED:20180108T021205Z
LAST-MODIFIED:20180108T021205Z
UID:10000272-1544868000-1544886000@lorenauriarte.com
SUMMARY:My Sewing Supplies :: Kirrawee
DESCRIPTION:Students may work on a variety of projects. Classes are technique based with support in colour and design. Each lesson is tailored to the individual group. \nPlease contact My Sewing Supplies directly to book into a class on 9542 3513
URL:https://lorenauriarte.com/classes/my-sewing-supplies-kirrawee-21/
LOCATION:My Sewing Supplies\, 208 Princess Hwy\, Sylvania\, NSW\, 2224\, Australia
CATEGORIES:My Sewing Supplies
END:VEVENT
BEGIN:VEVENT
DTSTART;TZID=Australia/Sydney:20181212T100000
DTEND;TZID=Australia/Sydney:20181212T150000
DTSTAMP:20260422T061529
CREATED:20180108T021107Z
LAST-MODIFIED:20180108T021107Z
UID:10000271-1544608800-1544626800@lorenauriarte.com
SUMMARY:My Sewing Supplies :: Kirrawee
DESCRIPTION:Students may work on a variety of projects. Classes are technique based with support in colour and design. Each lesson is tailored to the individual group. \nPlease contact My Sewing Supplies directly to book into a class on 9542 3513
URL:https://lorenauriarte.com/classes/my-sewing-supplies-kirrawee-20/
LOCATION:My Sewing Supplies\, 208 Princess Hwy\, Sylvania\, NSW\, 2224\, Australia
CATEGORIES:My Sewing Supplies
END:VEVENT
BEGIN:VEVENT
DTSTART;TZID=Australia/Sydney:20181117T100000
DTEND;TZID=Australia/Sydney:20181117T150000
DTSTAMP:20260422T061529
CREATED:20180108T020828Z
LAST-MODIFIED:20180108T020828Z
UID:10000269-1542448800-1542466800@lorenauriarte.com
SUMMARY:My Sewing Supplies :: Kirrawee
DESCRIPTION:Students may work on a variety of projects. Classes are technique based with support in colour and design. Each lesson is tailored to the individual group. \nPlease contact My Sewing Supplies directly to book into a class on 9542 3513
URL:https://lorenauriarte.com/classes/my-sewing-supplies-kirrawee-19/
LOCATION:My Sewing Supplies\, 208 Princess Hwy\, Sylvania\, NSW\, 2224\, Australia
CATEGORIES:My Sewing Supplies
END:VEVENT
BEGIN:VEVENT
DTSTART;TZID=Australia/Sydney:20181114T100000
DTEND;TZID=Australia/Sydney:20181114T150000
DTSTAMP:20260422T061529
CREATED:20180108T020659Z
LAST-MODIFIED:20180108T020659Z
UID:10000268-1542189600-1542207600@lorenauriarte.com
SUMMARY:My Sewing Supplies :: Kirrawee
DESCRIPTION:Students may work on a variety of projects. Classes are technique based with support in colour and design. Each lesson is tailored to the individual group. \nPlease contact My Sewing Supplies directly to book into a class on 9542 3513
URL:https://lorenauriarte.com/classes/my-sewing-supplies-kirrawee-18/
LOCATION:My Sewing Supplies\, 208 Princess Hwy\, Sylvania\, NSW\, 2224\, Australia
CATEGORIES:My Sewing Supplies
END:VEVENT
BEGIN:VEVENT
DTSTART;TZID=Australia/Sydney:20181020T100000
DTEND;TZID=Australia/Sydney:20181020T150000
DTSTAMP:20260422T061529
CREATED:20180108T015702Z
LAST-MODIFIED:20180108T015702Z
UID:10000266-1540029600-1540047600@lorenauriarte.com
SUMMARY:My Sewing Supplies :: Kirrawee
DESCRIPTION:Students may work on a variety of projects. Classes are technique based with support in colour and design. Each lesson is tailored to the individual group. \nPlease contact My Sewing Supplies directly to book into a class on 9542 3513
URL:https://lorenauriarte.com/classes/my-sewing-supplies-kirrawee-17/
LOCATION:My Sewing Supplies\, 208 Princess Hwy\, Sylvania\, NSW\, 2224\, Australia
CATEGORIES:My Sewing Supplies
END:VEVENT
BEGIN:VEVENT
DTSTART;TZID=Australia/Sydney:20181010T100000
DTEND;TZID=Australia/Sydney:20181010T150000
DTSTAMP:20260422T061529
CREATED:20180108T015505Z
LAST-MODIFIED:20180108T015505Z
UID:10000255-1539165600-1539183600@lorenauriarte.com
SUMMARY:My Sewing Supplies :: Kirrawee
DESCRIPTION:Students may work on a variety of projects. Classes are technique based with support in colour and design. Each lesson is tailored to the individual group. \nPlease contact My Sewing Supplies directly to book into a class on 9542 3513
URL:https://lorenauriarte.com/classes/my-sewing-supplies-kirrawee-16/
LOCATION:My Sewing Supplies\, 208 Princess Hwy\, Sylvania\, NSW\, 2224\, Australia
CATEGORIES:My Sewing Supplies
END:VEVENT
BEGIN:VEVENT
DTSTART;TZID=Australia/Sydney:20180915T100000
DTEND;TZID=Australia/Sydney:20180915T150000
DTSTAMP:20260422T061529
CREATED:20180108T014745Z
LAST-MODIFIED:20180108T014745Z
UID:10000253-1537005600-1537023600@lorenauriarte.com
SUMMARY:My Sewing Supplies :: Kirrawee
DESCRIPTION:Students may work on a variety of projects. Classes are technique based with support in colour and design. Each lesson is tailored to the individual group. \nPlease contact My Sewing Supplies directly to book into a class on 9542 3513
URL:https://lorenauriarte.com/classes/my-sewing-supplies-kirrawee-15/
LOCATION:My Sewing Supplies\, 208 Princess Hwy\, Sylvania\, NSW\, 2224\, Australia
CATEGORIES:My Sewing Supplies
END:VEVENT
BEGIN:VEVENT
DTSTART;TZID=Australia/Sydney:20180912T100000
DTEND;TZID=Australia/Sydney:20180912T150000
DTSTAMP:20260422T061529
CREATED:20180108T014705Z
LAST-MODIFIED:20180108T014705Z
UID:10000252-1536746400-1536764400@lorenauriarte.com
SUMMARY:My Sewing Supplies :: Kirrawee
DESCRIPTION:Students may work on a variety of projects. Classes are technique based with support in colour and design. Each lesson is tailored to the individual group. \nPlease contact My Sewing Supplies directly to book into a class on 9542 3513
URL:https://lorenauriarte.com/classes/my-sewing-supplies-kirrawee-14/
LOCATION:My Sewing Supplies\, 208 Princess Hwy\, Sylvania\, NSW\, 2224\, Australia
CATEGORIES:My Sewing Supplies
END:VEVENT
BEGIN:VEVENT
DTSTART;TZID=Australia/Sydney:20180818T100000
DTEND;TZID=Australia/Sydney:20180818T150000
DTSTAMP:20260422T061529
CREATED:20180108T014423Z
LAST-MODIFIED:20180108T014423Z
UID:10000250-1534586400-1534604400@lorenauriarte.com
SUMMARY:My Sewing Supplies :: Kirrawee
DESCRIPTION:Students may work on a variety of projects. Classes are technique based with support in colour and design. Each lesson is tailored to the individual group. \nPlease contact My Sewing Supplies directly to book into a class on 9542 3513
URL:https://lorenauriarte.com/classes/my-sewing-supplies-kirrawee-13/
LOCATION:My Sewing Supplies\, 208 Princess Hwy\, Sylvania\, NSW\, 2224\, Australia
CATEGORIES:My Sewing Supplies
END:VEVENT
BEGIN:VEVENT
DTSTART;TZID=Australia/Sydney:20180808T100000
DTEND;TZID=Australia/Sydney:20180808T150000
DTSTAMP:20260422T061529
CREATED:20180108T013817Z
LAST-MODIFIED:20180108T013817Z
UID:10000248-1533722400-1533740400@lorenauriarte.com
SUMMARY:My Sewing Supplies :: Kirrawee
DESCRIPTION:Students may work on a variety of projects. Classes are technique based with support in colour and design. Each lesson is tailored to the individual group. \nPlease contact My Sewing Supplies directly to book into a class on 9542 3513
URL:https://lorenauriarte.com/classes/my-sewing-supplies-kirrawee-12/
LOCATION:My Sewing Supplies\, 208 Princess Hwy\, Sylvania\, NSW\, 2224\, Australia
CATEGORIES:My Sewing Supplies
END:VEVENT
BEGIN:VEVENT
DTSTART;TZID=Australia/Sydney:20180721T100000
DTEND;TZID=Australia/Sydney:20180721T150000
DTSTAMP:20260422T061529
CREATED:20180108T013731Z
LAST-MODIFIED:20180108T013731Z
UID:10000247-1532167200-1532185200@lorenauriarte.com
SUMMARY:My Sewing Supplies :: Kirrawee
DESCRIPTION:Students may work on a variety of projects. Classes are technique based with support in colour and design. Each lesson is tailored to the individual group. \nPlease contact My Sewing Supplies directly to book into a class on 9542 3513
URL:https://lorenauriarte.com/classes/my-sewing-supplies-kirrawee-11/
LOCATION:My Sewing Supplies\, 208 Princess Hwy\, Sylvania\, NSW\, 2224\, Australia
CATEGORIES:My Sewing Supplies
END:VEVENT
BEGIN:VEVENT
DTSTART;TZID=Australia/Sydney:20180711T100000
DTEND;TZID=Australia/Sydney:20180711T150000
DTSTAMP:20260422T061529
CREATED:20180108T013550Z
LAST-MODIFIED:20180108T013550Z
UID:10000244-1531303200-1531321200@lorenauriarte.com
SUMMARY:My Sewing Supplies :: Kirrawee
DESCRIPTION:Students may work on a variety of projects. Classes are technique based with support in colour and design. Each lesson is tailored to the individual group. \nPlease contact My Sewing Supplies directly to book into a class on 9542 3513
URL:https://lorenauriarte.com/classes/my-sewing-supplies-kirrawee-10/
LOCATION:My Sewing Supplies\, 208 Princess Hwy\, Sylvania\, NSW\, 2224\, Australia
CATEGORIES:My Sewing Supplies
END:VEVENT
BEGIN:VEVENT
DTSTART;TZID=Australia/Sydney:20180616T100000
DTEND;TZID=Australia/Sydney:20180616T150000
DTSTAMP:20260422T061529
CREATED:20180108T013436Z
LAST-MODIFIED:20180108T013436Z
UID:10000242-1529143200-1529161200@lorenauriarte.com
SUMMARY:My Sewing Supplies :: Kirrawee
DESCRIPTION:Students may work on a variety of projects. Classes are technique based with support in colour and design. Each lesson is tailored to the individual group. \nPlease contact My Sewing Supplies directly to book into a class on 9542 3513
URL:https://lorenauriarte.com/classes/my-sewing-supplies-kirrawee-9/
LOCATION:My Sewing Supplies\, 208 Princess Hwy\, Sylvania\, NSW\, 2224\, Australia
CATEGORIES:My Sewing Supplies
END:VEVENT
BEGIN:VEVENT
DTSTART;TZID=Australia/Sydney:20180613T100000
DTEND;TZID=Australia/Sydney:20180613T150000
DTSTAMP:20260422T061529
CREATED:20180108T013355Z
LAST-MODIFIED:20180108T013355Z
UID:10000098-1528884000-1528902000@lorenauriarte.com
SUMMARY:My Sewing Supplies :: Kirrawee
DESCRIPTION:Students may work on a variety of projects. Classes are technique based with support in colour and design. Each lesson is tailored to the individual group. \nPlease contact My Sewing Supplies directly to book into a class on 9542 3513
URL:https://lorenauriarte.com/classes/my-sewing-supplies-kirrawee-8/
LOCATION:My Sewing Supplies\, 208 Princess Hwy\, Sylvania\, NSW\, 2224\, Australia
CATEGORIES:My Sewing Supplies
END:VEVENT
BEGIN:VEVENT
DTSTART;TZID=Australia/Sydney:20180519T100000
DTEND;TZID=Australia/Sydney:20180519T150000
DTSTAMP:20260422T061529
CREATED:20180108T013044Z
LAST-MODIFIED:20180108T013044Z
UID:10000095-1526724000-1526742000@lorenauriarte.com
SUMMARY:My Sewing Supplies :: Kirrawee
DESCRIPTION:Students may work on a variety of projects. Classes are technique based with support in colour and design. Each lesson is tailored to the individual group. \nPlease contact My Sewing Supplies directly to book into a class on 9542 3513
URL:https://lorenauriarte.com/classes/my-sewing-supplies-kirrawee-7/
LOCATION:My Sewing Supplies\, 208 Princess Hwy\, Sylvania\, NSW\, 2224\, Australia
CATEGORIES:My Sewing Supplies
END:VEVENT
BEGIN:VEVENT
DTSTART;TZID=Australia/Sydney:20180509T100000
DTEND;TZID=Australia/Sydney:20180509T150000
DTSTAMP:20260422T061529
CREATED:20180108T012849Z
LAST-MODIFIED:20180108T012849Z
UID:10000091-1525860000-1525878000@lorenauriarte.com
SUMMARY:My Sewing Supplies :: Kirrawee
DESCRIPTION:Students may work on a variety of projects. Classes are technique based with support in colour and design. Each lesson is tailored to the individual group. \nPlease contact My Sewing Supplies directly to book into a class on 9542 3513
URL:https://lorenauriarte.com/classes/my-sewing-supplies-kirrawee-6/
LOCATION:My Sewing Supplies\, 208 Princess Hwy\, Sylvania\, NSW\, 2224\, Australia
CATEGORIES:My Sewing Supplies
END:VEVENT
BEGIN:VEVENT
DTSTART;TZID=Australia/Sydney:20180421T100000
DTEND;TZID=Australia/Sydney:20180421T150000
DTSTAMP:20260422T061529
CREATED:20180108T012723Z
LAST-MODIFIED:20180408T225322Z
UID:10000089-1524304800-1524322800@lorenauriarte.com
SUMMARY:My Sewing Supplies :: Kirrawee
DESCRIPTION:Students may work on a variety of projects. Classes are technique based with support in colour and design. Each lesson is tailored to the individual group. \nPlease contact My Sewing Supplies directly to book into a class on 9542 3513
URL:https://lorenauriarte.com/classes/my-sewing-supplies-kirrawee-5/
LOCATION:My Sewing Supplies\, 208 Princess Hwy\, Sylvania\, NSW\, 2224\, Australia
CATEGORIES:My Sewing Supplies
END:VEVENT
BEGIN:VEVENT
DTSTART;TZID=Australia/Sydney:20180411T100000
DTEND;TZID=Australia/Sydney:20180411T150000
DTSTAMP:20260422T061529
CREATED:20180108T012409Z
LAST-MODIFIED:20180108T012645Z
UID:10000087-1523440800-1523458800@lorenauriarte.com
SUMMARY:My Sewing Supplies :: Kirrawee
DESCRIPTION:Students may work on a variety of projects. Classes are technique based with support in colour and design. Each lesson is tailored to the individual group. \nPlease contact My Sewing Supplies directly to book into a class on 9542 3513
URL:https://lorenauriarte.com/classes/my-sewing-supplies-kirrawee-4/
LOCATION:My Sewing Supplies\, 208 Princess Hwy\, Sylvania\, NSW\, 2224\, Australia
CATEGORIES:My Sewing Supplies
END:VEVENT
BEGIN:VEVENT
DTSTART;TZID=Australia/Sydney:20180314T100000
DTEND;TZID=Australia/Sydney:20180314T150000
DTSTAMP:20260422T061529
CREATED:20180108T011921Z
LAST-MODIFIED:20180108T011921Z
UID:10000085-1521021600-1521039600@lorenauriarte.com
SUMMARY:My Sewing Supplies :: Kirrawee
DESCRIPTION:Students may work on a variety of projects. Classes are technique based with support in colour and design. Each lesson is tailored to the individual group. \nPlease contact My Sewing Supplies directly to book into a class on 9542 3513
URL:https://lorenauriarte.com/classes/my-sewing-supplies-kirrawee-3/
LOCATION:My Sewing Supplies\, 208 Princess Hwy\, Sylvania\, NSW\, 2224\, Australia
CATEGORIES:My Sewing Supplies
END:VEVENT
END:VCALENDAR