BEGIN:VCALENDAR
VERSION:2.0
PRODID:-//Lorena Uriarte - ECPv6.15.20//NONSGML v1.0//EN
CALSCALE:GREGORIAN
METHOD:PUBLISH
X-WR-CALNAME:Lorena Uriarte
X-ORIGINAL-URL:https://lorenauriarte.com
X-WR-CALDESC:Events for Lorena Uriarte
REFRESH-INTERVAL;VALUE=DURATION:PT1H
X-Robots-Tag:noindex
X-PUBLISHED-TTL:PT1H
BEGIN:VTIMEZONE
TZID:Australia/Sydney
BEGIN:STANDARD
TZOFFSETFROM:+1100
TZOFFSETTO:+1000
TZNAME:AEST
DTSTART:20210403T160000
END:STANDARD
BEGIN:DAYLIGHT
TZOFFSETFROM:+1000
TZOFFSETTO:+1100
TZNAME:AEDT
DTSTART:20211002T160000
END:DAYLIGHT
BEGIN:STANDARD
TZOFFSETFROM:+1100
TZOFFSETTO:+1000
TZNAME:AEST
DTSTART:20220402T160000
END:STANDARD
BEGIN:DAYLIGHT
TZOFFSETFROM:+1000
TZOFFSETTO:+1100
TZNAME:AEDT
DTSTART:20221001T160000
END:DAYLIGHT
BEGIN:STANDARD
TZOFFSETFROM:+1100
TZOFFSETTO:+1000
TZNAME:AEST
DTSTART:20230401T160000
END:STANDARD
BEGIN:DAYLIGHT
TZOFFSETFROM:+1000
TZOFFSETTO:+1100
TZNAME:AEDT
DTSTART:20230930T160000
END:DAYLIGHT
END:VTIMEZONE
BEGIN:VEVENT
DTSTART;TZID=Australia/Sydney:20220504T100000
DTEND;TZID=Australia/Sydney:20220504T130000
DTSTAMP:20260424T071302
CREATED:20220420T231243Z
LAST-MODIFIED:20220509T051248Z
UID:10000189-1651658400-1651669200@lorenauriarte.com
SUMMARY:Kawandi : Melbourne
DESCRIPTION:A four hour Kawandi Workshop in Melbourne! \nClass fee includes a special kit with everything you need to complete a small kawandi piece and morning tea. \n \nAdditional Retreat bag kit is available to preorder for $40. \nPlease advise of any special dietary requirements. \nCovid protocols: Nobody wants to get sick. Please don’t attend if you are not feeling well. I test before every class and I expect students to do the same. N95 masks are available for any one who wishes to wear one. \nBook your spot here: https://lorenauriarte.com/product/kawandi-4th-may-melbourne/
URL:https://lorenauriarte.com/classes/kawandi-melbourne/
LOCATION:NSW
END:VEVENT
BEGIN:VEVENT
DTSTART;TZID=Australia/Sydney:20220511T100000
DTEND;TZID=Australia/Sydney:20220511T150000
DTSTAMP:20260424T071302
CREATED:20220328T112701Z
LAST-MODIFIED:20220328T112701Z
UID:10000370-1652263200-1652281200@lorenauriarte.com
SUMMARY:Kawandi Workshop - Neutral Bay
DESCRIPTION:
URL:https://lorenauriarte.com/classes/kawandi-workshop-neutral-bay/
LOCATION:Fabric Garden\, Suite 15\, 185 Military Rd\, Neutral Bay\, NSW\, 2089\, Australia
END:VEVENT
BEGIN:VEVENT
DTSTART;TZID=Australia/Sydney:20220514T100000
DTEND;TZID=Australia/Sydney:20220514T150000
DTSTAMP:20260424T071302
CREATED:20220328T112825Z
LAST-MODIFIED:20220328T112825Z
UID:10000371-1652522400-1652540400@lorenauriarte.com
SUMMARY:2nd Saturday Class - Warriewood
DESCRIPTION:
URL:https://lorenauriarte.com/classes/2nd-saturday-class-warriewood-2/
LOCATION:NSW
END:VEVENT
BEGIN:VEVENT
DTSTART;TZID=Australia/Sydney:20220518T100000
DTEND;TZID=Australia/Sydney:20220518T160000
DTSTAMP:20260424T071302
CREATED:20220328T113016Z
LAST-MODIFIED:20220328T113016Z
UID:10000372-1652868000-1652889600@lorenauriarte.com
SUMMARY:3rd Wednesday Class - Sylvania
DESCRIPTION:
URL:https://lorenauriarte.com/classes/3rd-wednesday-class-sylvania-2/
LOCATION:NSW
END:VEVENT
BEGIN:VEVENT
DTSTART;TZID=Australia/Sydney:20220521T100000
DTEND;TZID=Australia/Sydney:20220521T160000
DTSTAMP:20260424T071302
CREATED:20220328T113132Z
LAST-MODIFIED:20220328T113132Z
UID:10000373-1653127200-1653148800@lorenauriarte.com
SUMMARY:3rd Saturday Class - Sylvania
DESCRIPTION:
URL:https://lorenauriarte.com/classes/3rd-saturday-class-sylvania/
LOCATION:NSW
END:VEVENT
BEGIN:VEVENT
DTSTART;VALUE=DATE:20220527
DTEND;VALUE=DATE:20220529
DTSTAMP:20260424T071302
CREATED:20220314T052218Z
LAST-MODIFIED:20220314T052218Z
UID:10000367-1653609600-1653782399@lorenauriarte.com
SUMMARY:Precious Time : Toowoomba\, QLD
DESCRIPTION:Two days of classes at Precious Time Fabric & Quilts. \nKawandi & Sakura Breeze.\, \, \nContact the shop directly for more details.
URL:https://lorenauriarte.com/classes/precious-time-toowoomba-qld/
LOCATION:Precious Time Fabric & Quilts\, 29 David St\, Toowoomba\, Queensland\, Australia
CATEGORIES:Precious Time Fabric & Quilts
END:VEVENT
BEGIN:VEVENT
DTSTART;TZID=Australia/Sydney:20220529T110000
DTEND;TZID=Australia/Sydney:20220529T140000
DTSTAMP:20260424T071302
CREATED:20220511T231404Z
LAST-MODIFIED:20220511T231404Z
UID:10000194-1653822000-1653832800@lorenauriarte.com
SUMMARY:AQC: Brisbane
DESCRIPTION:Lorena will be attending the Australasian Quilt Convention (AQC) in Brisbane. \nTwo of her quilts will be hanging in the modern quilting group exhibition curated by Tara Glastonbury Toward Abstraction. \nStop and say hi! \nwww.aqc.com.au \n 
URL:https://lorenauriarte.com/classes/aqc-brisbane/
LOCATION:NSW
END:VEVENT
END:VCALENDAR