BEGIN:VCALENDAR
VERSION:2.0
PRODID:-//Lorena Uriarte - ECPv6.15.20//NONSGML v1.0//EN
CALSCALE:GREGORIAN
METHOD:PUBLISH
X-WR-CALNAME:Lorena Uriarte
X-ORIGINAL-URL:https://lorenauriarte.com
X-WR-CALDESC:Events for Lorena Uriarte
REFRESH-INTERVAL;VALUE=DURATION:PT1H
X-Robots-Tag:noindex
X-PUBLISHED-TTL:PT1H
BEGIN:VTIMEZONE
TZID:Australia/Sydney
BEGIN:STANDARD
TZOFFSETFROM:+1100
TZOFFSETTO:+1000
TZNAME:AEST
DTSTART:20210403T160000
END:STANDARD
BEGIN:DAYLIGHT
TZOFFSETFROM:+1000
TZOFFSETTO:+1100
TZNAME:AEDT
DTSTART:20211002T160000
END:DAYLIGHT
BEGIN:STANDARD
TZOFFSETFROM:+1100
TZOFFSETTO:+1000
TZNAME:AEST
DTSTART:20220402T160000
END:STANDARD
BEGIN:DAYLIGHT
TZOFFSETFROM:+1000
TZOFFSETTO:+1100
TZNAME:AEDT
DTSTART:20221001T160000
END:DAYLIGHT
BEGIN:STANDARD
TZOFFSETFROM:+1100
TZOFFSETTO:+1000
TZNAME:AEST
DTSTART:20230401T160000
END:STANDARD
BEGIN:DAYLIGHT
TZOFFSETFROM:+1000
TZOFFSETTO:+1100
TZNAME:AEDT
DTSTART:20230930T160000
END:DAYLIGHT
END:VTIMEZONE
BEGIN:VEVENT
DTSTART;TZID=Australia/Sydney:20220604T100000
DTEND;TZID=Australia/Sydney:20220604T150000
DTSTAMP:20260424T053209
CREATED:20220509T051827Z
LAST-MODIFIED:20220509T052225Z
UID:10000190-1654336800-1654354800@lorenauriarte.com
SUMMARY:Kawandi Workshop: 4th June WARRIEWOOD
DESCRIPTION:Kawandi Workshop in Sydney! \nClass fee includes a special kit with everything you need to complete a small   piece\, lunch and morning tea. \n \nAdditional Retreat bag kit is available to preorder for $40. \nPlease advise of any special dietary requirements. \nCovid protocols: Nobody wants to get sick. Please don’t attend if you are not feeling well. I test before every class and I expect students to do the same. N95 masks are available for any one who wishes to wear one. \nBook your spot here \nhttps://lorenauriarte.com/product/kawandi-workshop-4th-june-warriewood/ \n 
URL:https://lorenauriarte.com/classes/kawandi-workshop-4th-june-warriewood/
LOCATION:NSW
END:VEVENT
BEGIN:VEVENT
DTSTART;TZID=Australia/Sydney:20220611T100000
DTEND;TZID=Australia/Sydney:20220611T150000
DTSTAMP:20260424T053209
CREATED:20220602T075146Z
LAST-MODIFIED:20220602T075205Z
UID:10000196-1654941600-1654959600@lorenauriarte.com
SUMMARY:2nd Saturday Class - Warriewood
DESCRIPTION:This is a lovely small\, student centred class. \nBring your project or work on one of my patterns with any technique you wish to learn. \nLunch and treats are provided. \nLocated in the small class room of the old Cottage Quilt Works shop. \nContact me directly to book your spot or for any further details.
URL:https://lorenauriarte.com/classes/2nd-saturday-class-warriewood-5/
LOCATION:NSW
ATTACH;FMTTYPE=image/jpeg:https://lorenauriarte.com/wp-content/uploads/2018/06/IMG_4033-scaled.jpg
END:VEVENT
BEGIN:VEVENT
DTSTART;TZID=Australia/Sydney:20220615T100000
DTEND;TZID=Australia/Sydney:20220615T160000
DTSTAMP:20260424T053209
CREATED:20220406T112902Z
LAST-MODIFIED:20220602T083400Z
UID:10000376-1655287200-1655308800@lorenauriarte.com
SUMMARY:My Sewing Supplies : Sylvania
DESCRIPTION:
URL:https://lorenauriarte.com/classes/my-sewing-supplies-sylvania-24/
LOCATION:My Sewing Supplies\, 208 Princess Hwy\, Sylvania\, NSW\, 2224\, Australia
END:VEVENT
BEGIN:VEVENT
DTSTART;TZID=Australia/Sydney:20220618T100000
DTEND;TZID=Australia/Sydney:20220618T160000
DTSTAMP:20260424T053209
CREATED:20220408T111004Z
LAST-MODIFIED:20220408T111004Z
UID:10000375-1655546400-1655568000@lorenauriarte.com
SUMMARY:My Sewing Supplies : Sylvania
DESCRIPTION:3rd Saturday Class at My Sewing Supplies. \nContact the shop directly to book your spot.
URL:https://lorenauriarte.com/classes/my-sewing-supplies-sylvania-25/
LOCATION:My Sewing Supplies\, 208 Princess Hwy\, Sylvania\, NSW\, 2224\, Australia
END:VEVENT
BEGIN:VEVENT
DTSTART;VALUE=DATE:20220625
DTEND;VALUE=DATE:20220627
DTSTAMP:20260424T053209
CREATED:20220406T112142Z
LAST-MODIFIED:20220406T112142Z
UID:10000374-1656115200-1656287999@lorenauriarte.com
SUMMARY:HOBART - TMQG
DESCRIPTION:TBA – Tasmanian Modern Quilt Guild
URL:https://lorenauriarte.com/classes/hobart-tmqg/
LOCATION:NSW
END:VEVENT
END:VCALENDAR