BEGIN:VCALENDAR
VERSION:2.0
PRODID:-//Lorena Uriarte - ECPv6.15.20//NONSGML v1.0//EN
CALSCALE:GREGORIAN
METHOD:PUBLISH
X-WR-CALNAME:Lorena Uriarte
X-ORIGINAL-URL:https://lorenauriarte.com
X-WR-CALDESC:Events for Lorena Uriarte
REFRESH-INTERVAL;VALUE=DURATION:PT1H
X-Robots-Tag:noindex
X-PUBLISHED-TTL:PT1H
BEGIN:VTIMEZONE
TZID:Australia/Sydney
BEGIN:STANDARD
TZOFFSETFROM:+1100
TZOFFSETTO:+1000
TZNAME:AEST
DTSTART:20210403T160000
END:STANDARD
BEGIN:DAYLIGHT
TZOFFSETFROM:+1000
TZOFFSETTO:+1100
TZNAME:AEDT
DTSTART:20211002T160000
END:DAYLIGHT
BEGIN:STANDARD
TZOFFSETFROM:+1100
TZOFFSETTO:+1000
TZNAME:AEST
DTSTART:20220402T160000
END:STANDARD
BEGIN:DAYLIGHT
TZOFFSETFROM:+1000
TZOFFSETTO:+1100
TZNAME:AEDT
DTSTART:20221001T160000
END:DAYLIGHT
BEGIN:STANDARD
TZOFFSETFROM:+1100
TZOFFSETTO:+1000
TZNAME:AEST
DTSTART:20230401T160000
END:STANDARD
BEGIN:DAYLIGHT
TZOFFSETFROM:+1000
TZOFFSETTO:+1100
TZNAME:AEDT
DTSTART:20230930T160000
END:DAYLIGHT
END:VTIMEZONE
BEGIN:VEVENT
DTSTART;TZID=Australia/Sydney:20220817T100000
DTEND;TZID=Australia/Sydney:20220817T160000
DTSTAMP:20260423T213721
CREATED:20220602T080321Z
LAST-MODIFIED:20220602T080321Z
UID:10000200-1660730400-1660752000@lorenauriarte.com
SUMMARY:3rd Wednesday Class : Sylvania
DESCRIPTION:
URL:https://lorenauriarte.com/classes/3rd-wednesday-class-sylvania-3/
LOCATION:NSW
END:VEVENT
BEGIN:VEVENT
DTSTART;TZID=Australia/Sydney:20220820T100000
DTEND;TZID=Australia/Sydney:20220820T160000
DTSTAMP:20260423T213721
CREATED:20220602T080410Z
LAST-MODIFIED:20220602T080410Z
UID:10000202-1660989600-1661011200@lorenauriarte.com
SUMMARY:3rd Saturday Class : Sylvania
DESCRIPTION:
URL:https://lorenauriarte.com/classes/3rd-saturday-class-sylvania-2/
LOCATION:My Sewing Supplies\, 208 Princess Hwy\, Sylvania\, NSW\, 2224\, Australia
END:VEVENT
BEGIN:VEVENT
DTSTART;TZID=Australia/Sydney:20220824T093000
DTEND;TZID=Australia/Sydney:20220824T120000
DTSTAMP:20260423T213721
CREATED:20220801T234607Z
LAST-MODIFIED:20220801T234607Z
UID:10000388-1661333400-1661342400@lorenauriarte.com
SUMMARY:Useful Box : Marrickville
DESCRIPTION:  \nLearn to Quilt in the Inner West at Useful Box! \nDATES \n24th August \n31st August \n7th September \n14th September \n21st September w/ Caz \n28th September \nMore details here: https://usefulbox.com.au/products/beginner-quilting-course
URL:https://lorenauriarte.com/classes/useful-box-marrickville/
LOCATION:UsefulBox\, 39-43 Shepherd St\, Marrickville\, NSW\, 2204\, Australia
END:VEVENT
BEGIN:VEVENT
DTSTART;TZID=Australia/Sydney:20220827T100000
DTEND;TZID=Australia/Sydney:20220827T150000
DTSTAMP:20260423T213721
CREATED:20220615T233318Z
LAST-MODIFIED:20220812T043256Z
UID:10000382-1661594400-1661612400@lorenauriarte.com
SUMMARY:Warriewood : 60 Stitches
DESCRIPTION:  \n \nMonthly 2nd Saturdays \nDATES: \n27 August \n10 September \n29 October \n12 November \n10 December \n$85 fee includes morning tea and lunch \nBring your own pattern\, design something unique or work on one of my designs \nNEW VENUE! \n60 Stitches \n2301 / Level 3 \n4 Daydream St\, Warriewood \nhttps://lorenauriarte.com/product/warriewood-60-stitches/ \n 
URL:https://lorenauriarte.com/classes/warriewood/
LOCATION:NSW
END:VEVENT
BEGIN:VEVENT
DTSTART;TZID=Australia/Sydney:20220828T080000
DTEND;TZID=Australia/Sydney:20220828T170000
DTSTAMP:20260423T213721
CREATED:20220602T080531Z
LAST-MODIFIED:20220602T080531Z
UID:10000378-1661673600-1661706000@lorenauriarte.com
SUMMARY:Fabric Garden : Neutral Bay
DESCRIPTION:Retreat Bag \nmore information coming
URL:https://lorenauriarte.com/classes/fabric-garden-neutral-bay-2/
LOCATION:Fabric Garden\, Suite 15\, 185 Military Rd\, Neutral Bay\, NSW\, 2089\, Australia
ORGANIZER;CN="Fabric Garden":MAILTO:s.miller@fabricgarden.com.au
END:VEVENT
BEGIN:VEVENT
DTSTART;TZID=Australia/Sydney:20220831T093000
DTEND;TZID=Australia/Sydney:20220831T120000
DTSTAMP:20260423T213721
CREATED:20220801T234739Z
LAST-MODIFIED:20220801T234739Z
UID:10000389-1661938200-1661947200@lorenauriarte.com
SUMMARY:Useful Box: Marrickville
DESCRIPTION:Learn to Quilt \nLearn to Quilt in the Inner West at Useful Box! \nDATES \n24th August \n31st August \n7th September \n14th September \n21st September w/ Caz \n28th September \nMore details here: https://usefulbox.com.au/products/beginner-quilting-course
URL:https://lorenauriarte.com/classes/useful-box-marrickville-2/
LOCATION:UsefulBox\, 39-43 Shepherd St\, Marrickville\, NSW\, 2204\, Australia
END:VEVENT
END:VCALENDAR