BEGIN:VCALENDAR
VERSION:2.0
PRODID:-//Lorena Uriarte - ECPv6.15.20//NONSGML v1.0//EN
CALSCALE:GREGORIAN
METHOD:PUBLISH
X-WR-CALNAME:Lorena Uriarte
X-ORIGINAL-URL:https://lorenauriarte.com
X-WR-CALDESC:Events for Lorena Uriarte
REFRESH-INTERVAL;VALUE=DURATION:PT1H
X-Robots-Tag:noindex
X-PUBLISHED-TTL:PT1H
BEGIN:VTIMEZONE
TZID:Australia/Sydney
BEGIN:STANDARD
TZOFFSETFROM:+1100
TZOFFSETTO:+1000
TZNAME:AEST
DTSTART:20220402T160000
END:STANDARD
BEGIN:DAYLIGHT
TZOFFSETFROM:+1000
TZOFFSETTO:+1100
TZNAME:AEDT
DTSTART:20221001T160000
END:DAYLIGHT
BEGIN:STANDARD
TZOFFSETFROM:+1100
TZOFFSETTO:+1000
TZNAME:AEST
DTSTART:20230401T160000
END:STANDARD
BEGIN:DAYLIGHT
TZOFFSETFROM:+1000
TZOFFSETTO:+1100
TZNAME:AEDT
DTSTART:20230930T160000
END:DAYLIGHT
BEGIN:STANDARD
TZOFFSETFROM:+1100
TZOFFSETTO:+1000
TZNAME:AEST
DTSTART:20240406T160000
END:STANDARD
BEGIN:DAYLIGHT
TZOFFSETFROM:+1000
TZOFFSETTO:+1100
TZNAME:AEDT
DTSTART:20241005T160000
END:DAYLIGHT
END:VTIMEZONE
BEGIN:VEVENT
DTSTART;TZID=Australia/Sydney:20230203T100000
DTEND;TZID=Australia/Sydney:20230203T150000
DTSTAMP:20260422T192116
CREATED:20230111T231205Z
LAST-MODIFIED:20230111T231603Z
UID:10000425-1675418400-1675436400@lorenauriarte.com
SUMMARY:Kawandi : Melbourne
DESCRIPTION:Finally\, my return to Melbourne to teach two Kawandi Workshops! \nThis time at the fabulous big space at GJs Fabrics in Fairfield so you can pick up some goodies before and after the class. \nTwo days to choose from: Friday 3rd February and Saturday 4th February\, 10am to 3pm. \nThe cost includes a complete kit with everything you need to make your own small kawandi panel: foundation fabric\, batting\, an assortment of colourful patchwork fabric\, needles\, pins\, 12wt Aurifil thread and more! \nMorning and afternoon tea will also be provided. Bring a packed lunch if you wish.
URL:https://lorenauriarte.com/classes/kawandi-melbourne-2/
LOCATION:GJs Discount Fabrics\, 31 Steane Street\, Fairfield\, Victoria\, 3078\, Australia
CATEGORIES:Kawandi Workshop
ATTACH;FMTTYPE=image/jpeg:https://lorenauriarte.com/wp-content/uploads/2022/12/pretzel-truck-kawandi-scaled.jpg
END:VEVENT
BEGIN:VEVENT
DTSTART;TZID=Australia/Sydney:20230204T100000
DTEND;TZID=Australia/Sydney:20230204T150000
DTSTAMP:20260422T192116
CREATED:20230111T232154Z
LAST-MODIFIED:20230111T232243Z
UID:10000426-1675504800-1675522800@lorenauriarte.com
SUMMARY:Kawandi : Melbourne
DESCRIPTION:Finally\, my return to Melbourne to teach two Kawandi Workshops! \nThis time at the fabulous big space at GJs Fabrics in Fairfield so you can pick up some goodies before and after the class. \nTwo days to choose from: Friday 3rd February and Saturday 4th February\, 10am to 3pm. \nThe cost includes a complete kit with everything you need to make your own small kawandi panel: foundation fabric\, batting\, an assortment of colourful patchwork fabric\, needles\, pins\, 12wt Aurifil thread and more! \nMorning and afternoon tea will also be provided. Bring a packed lunch if you wish.
URL:https://lorenauriarte.com/classes/kawandi-melbourne-3/
LOCATION:GJs Discount Fabrics\, 31 Steane Street\, Fairfield\, Victoria\, 3078\, Australia
CATEGORIES:Kawandi Workshop
ATTACH;FMTTYPE=image/jpeg:https://lorenauriarte.com/wp-content/uploads/2022/12/kawandi-in-progress-scaled.jpg
END:VEVENT
BEGIN:VEVENT
DTSTART;TZID=Australia/Sydney:20230211T100000
DTEND;TZID=Australia/Sydney:20230211T150000
DTSTAMP:20260422T192116
CREATED:20221216T023707Z
LAST-MODIFIED:20230123T021443Z
UID:10000404-1676109600-1676127600@lorenauriarte.com
SUMMARY:60 Stitches: Warriewood
DESCRIPTION:2nd Saturday Class : Warriewood
URL:https://lorenauriarte.com/classes/60-stitches-warriewood/
LOCATION:60 Stitches\, 1301/ 4 Daydream St\, Warriewood\, NSW\, 2101\, Australia
END:VEVENT
BEGIN:VEVENT
DTSTART;TZID=Australia/Sydney:20230212T100000
DTEND;TZID=Australia/Sydney:20230212T150000
DTSTAMP:20260422T192116
CREATED:20221216T023754Z
LAST-MODIFIED:20221218T110507Z
UID:10000405-1676196000-1676214000@lorenauriarte.com
SUMMARY:UsefulBox : Marrickville
DESCRIPTION:TBA
URL:https://lorenauriarte.com/classes/usefulbox-marrickville-6/
LOCATION:UsefulBox\, 39-43 Shepherd St\, Marrickville\, NSW\, 2204\, Australia
END:VEVENT
BEGIN:VEVENT
DTSTART;TZID=Australia/Sydney:20230215T100000
DTEND;TZID=Australia/Sydney:20230215T160000
DTSTAMP:20260422T192116
CREATED:20221216T023834Z
LAST-MODIFIED:20221218T111337Z
UID:10000406-1676455200-1676476800@lorenauriarte.com
SUMMARY:My Sewing Supplies : Sylvania
DESCRIPTION:
URL:https://lorenauriarte.com/classes/my-sewing-supplies-sylvania-33/
LOCATION:My Sewing Supplies\, 208 Princess Hwy\, Sylvania\, NSW\, 2224\, Australia
END:VEVENT
BEGIN:VEVENT
DTSTART;TZID=Australia/Sydney:20230218T100000
DTEND;TZID=Australia/Sydney:20230218T160000
DTSTAMP:20260422T192116
CREATED:20221216T023921Z
LAST-MODIFIED:20221216T023921Z
UID:10000407-1676714400-1676736000@lorenauriarte.com
SUMMARY:My Sewing Supplies : Sylvania
DESCRIPTION:
URL:https://lorenauriarte.com/classes/my-sewing-supplies-sylvania-34/
LOCATION:My Sewing Supplies\, 208 Princess Hwy\, Sylvania\, NSW\, 2224\, Australia
END:VEVENT
BEGIN:VEVENT
DTSTART;TZID=Australia/Sydney:20230219T100000
DTEND;TZID=Australia/Sydney:20230219T160000
DTSTAMP:20260422T192116
CREATED:20221216T023957Z
LAST-MODIFIED:20221216T023957Z
UID:10000408-1676800800-1676822400@lorenauriarte.com
SUMMARY:UsefulBox : Marrickville
DESCRIPTION:
URL:https://lorenauriarte.com/classes/usefulbox-marrickville-7/
LOCATION:NSW
END:VEVENT
BEGIN:VEVENT
DTSTART;TZID=Australia/Sydney:20230226T090000
DTEND;TZID=Australia/Sydney:20230226T150000
DTSTAMP:20260422T192116
CREATED:20221216T024213Z
LAST-MODIFIED:20221218T061104Z
UID:10000409-1677402000-1677423600@lorenauriarte.com
SUMMARY:UsefulBox : Marrickville
DESCRIPTION:TBA
URL:https://lorenauriarte.com/classes/usefulbox-marrickville-9/
LOCATION:UsefulBox\, 39-43 Shepherd St\, Marrickville\, NSW\, 2204\, Australia
END:VEVENT
END:VCALENDAR