BEGIN:VCALENDAR
VERSION:2.0
PRODID:-//Lorena Uriarte - ECPv6.15.20//NONSGML v1.0//EN
CALSCALE:GREGORIAN
METHOD:PUBLISH
X-ORIGINAL-URL:https://lorenauriarte.com
X-WR-CALDESC:Events for Lorena Uriarte
REFRESH-INTERVAL;VALUE=DURATION:PT1H
X-Robots-Tag:noindex
X-PUBLISHED-TTL:PT1H
BEGIN:VTIMEZONE
TZID:Australia/Sydney
BEGIN:STANDARD
TZOFFSETFROM:+1100
TZOFFSETTO:+1000
TZNAME:AEST
DTSTART:20220402T160000
END:STANDARD
BEGIN:DAYLIGHT
TZOFFSETFROM:+1000
TZOFFSETTO:+1100
TZNAME:AEDT
DTSTART:20221001T160000
END:DAYLIGHT
BEGIN:STANDARD
TZOFFSETFROM:+1100
TZOFFSETTO:+1000
TZNAME:AEST
DTSTART:20230401T160000
END:STANDARD
BEGIN:DAYLIGHT
TZOFFSETFROM:+1000
TZOFFSETTO:+1100
TZNAME:AEDT
DTSTART:20230930T160000
END:DAYLIGHT
BEGIN:STANDARD
TZOFFSETFROM:+1100
TZOFFSETTO:+1000
TZNAME:AEST
DTSTART:20240406T160000
END:STANDARD
BEGIN:DAYLIGHT
TZOFFSETFROM:+1000
TZOFFSETTO:+1100
TZNAME:AEDT
DTSTART:20241005T160000
END:DAYLIGHT
END:VTIMEZONE
BEGIN:VEVENT
DTSTART;TZID=Australia/Sydney:20230304T090000
DTEND;TZID=Australia/Sydney:20230304T150000
DTSTAMP:20260422T140128
CREATED:20221218T061647Z
LAST-MODIFIED:20221218T061647Z
UID:10000410-1677920400-1677942000@lorenauriarte.com
SUMMARY:Kawandi : UsefulBox Marrickville
DESCRIPTION:TBA
URL:https://lorenauriarte.com/classes/kawandi-usefulbox-marrickville-2/
LOCATION:NSW
END:VEVENT
BEGIN:VEVENT
DTSTART;TZID=Australia/Sydney:20230305T100000
DTEND;TZID=Australia/Sydney:20230305T150000
DTSTAMP:20260422T140128
CREATED:20230213T093922Z
LAST-MODIFIED:20230213T093943Z
UID:10000429-1678010400-1678028400@lorenauriarte.com
SUMMARY:Kawandi : Neutral Bay
DESCRIPTION:book online https://fabricgarden.com.au/products/kawandi-sewing-workshop-with-lorena-uriarte \n 
URL:https://lorenauriarte.com/classes/kawandi-neutral-bay-2/
LOCATION:Fabric Garden\, Suite 15\, 185 Military Rd\, Neutral Bay\, NSW\, 2089\, Australia
CATEGORIES:FABRIC GARDEN
ORGANIZER;CN="Fabric Garden":MAILTO:s.miller@fabricgarden.com.au
END:VEVENT
BEGIN:VEVENT
DTSTART;TZID=Australia/Sydney:20230308T100000
DTEND;TZID=Australia/Sydney:20230308T150000
DTSTAMP:20260422T140128
CREATED:20230213T094903Z
LAST-MODIFIED:20230213T094903Z
UID:10000430-1678269600-1678287600@lorenauriarte.com
SUMMARY:Berry Quilt & Co
DESCRIPTION:Anything Goes sessions \n8 March \n10 May \n12 July \n13 September \n8 November \n  \nmore info here: https://www.berryquiltandco.com.au/events/lorena_anything_goes/
URL:https://lorenauriarte.com/classes/berry-quilt-co/
LOCATION:Berry Quilt & Co\, SHOPS 4+5 / 66 ALBERT ST\, Berry\, NSW\, 2535\, Australia
END:VEVENT
BEGIN:VEVENT
DTSTART;TZID=Australia/Sydney:20230311T100000
DTEND;TZID=Australia/Sydney:20230311T150000
DTSTAMP:20260422T140128
CREATED:20221218T061852Z
LAST-MODIFIED:20230123T021602Z
UID:10000411-1678528800-1678546800@lorenauriarte.com
SUMMARY:60 Stitches : Warriewood
DESCRIPTION:2nd Saturday Class \nBOOK HERE \n2nd Saturday Class : Warriewood \n \n 
URL:https://lorenauriarte.com/classes/60-stitches-warriewood-2/
LOCATION:60 Stitches\, 1301/ 4 Daydream St\, Warriewood\, NSW\, 2101\, Australia
END:VEVENT
BEGIN:VEVENT
DTSTART;TZID=Australia/Sydney:20230312T090000
DTEND;TZID=Australia/Sydney:20230312T150000
DTSTAMP:20260422T140128
CREATED:20221218T062059Z
LAST-MODIFIED:20221218T062059Z
UID:10000412-1678611600-1678633200@lorenauriarte.com
SUMMARY:UsefulBox : Marrickville
DESCRIPTION:TBA
URL:https://lorenauriarte.com/classes/usefulbox-marrickville-12/
LOCATION:UsefulBox\, 39-43 Shepherd St\, Marrickville\, NSW\, 2204\, Australia
END:VEVENT
BEGIN:VEVENT
DTSTART;TZID=Australia/Sydney:20230315T100000
DTEND;TZID=Australia/Sydney:20230315T160000
DTSTAMP:20260422T140128
CREATED:20221218T062202Z
LAST-MODIFIED:20221218T062202Z
UID:10000413-1678874400-1678896000@lorenauriarte.com
SUMMARY:My Sewing Supplies : Sylvania
DESCRIPTION:
URL:https://lorenauriarte.com/classes/my-sewing-supplies-sylvania-35/
LOCATION:My Sewing Supplies\, 208 Princess Hwy\, Sylvania\, NSW\, 2224\, Australia
END:VEVENT
BEGIN:VEVENT
DTSTART;TZID=Australia/Sydney:20230318T100000
DTEND;TZID=Australia/Sydney:20230318T160000
DTSTAMP:20260422T140128
CREATED:20221218T062244Z
LAST-MODIFIED:20221218T062244Z
UID:10000414-1679133600-1679155200@lorenauriarte.com
SUMMARY:My Sewing Supplies : Sylvania
DESCRIPTION:
URL:https://lorenauriarte.com/classes/my-sewing-supplies-sylvania-36/
LOCATION:NSW
END:VEVENT
BEGIN:VEVENT
DTSTART;TZID=Australia/Sydney:20230319T090000
DTEND;TZID=Australia/Sydney:20230319T120000
DTSTAMP:20260422T140128
CREATED:20221218T062528Z
LAST-MODIFIED:20221218T062528Z
UID:10000415-1679216400-1679227200@lorenauriarte.com
SUMMARY:UsefulBox : Marrickville
DESCRIPTION:Sunday Quilting
URL:https://lorenauriarte.com/classes/usefulbox-marrickville-13/
LOCATION:UsefulBox\, 39-43 Shepherd St\, Marrickville\, NSW\, 2204\, Australia
END:VEVENT
BEGIN:VEVENT
DTSTART;TZID=Australia/Sydney:20230322T093000
DTEND;TZID=Australia/Sydney:20230322T120000
DTSTAMP:20260422T140128
CREATED:20230313T040153Z
LAST-MODIFIED:20230313T040153Z
UID:10000439-1679477400-1679486400@lorenauriarte.com
SUMMARY:UsefulBox : Marrickville
DESCRIPTION:Curves masterclass @ UsefulBox contact the shop directly to book in
URL:https://lorenauriarte.com/classes/usefulbox-marrickville-8/
LOCATION:UsefulBox\, 39-43 Shepherd St\, Marrickville\, NSW\, 2204\, Australia
END:VEVENT
BEGIN:VEVENT
DTSTART;TZID=Australia/Sydney:20230325T100000
DTEND;TZID=Australia/Sydney:20230325T160000
DTSTAMP:20260422T140128
CREATED:20221218T072123Z
LAST-MODIFIED:20221218T072123Z
UID:10000416-1679738400-1679760000@lorenauriarte.com
SUMMARY:Kawandi : The Makers Studio\, Central Coast
DESCRIPTION:Kawandi Workshop \nThe Makers Studio \n8-10 Russell Drysdale st \nEast Gosford \nCost: $110 members / $130 non members
URL:https://lorenauriarte.com/classes/kawandi-the-makers-studio-central-coast/
LOCATION:NSW
ORGANIZER;CN="The Makers Studio":MAILTO:info@themakersstudio.org.au
END:VEVENT
END:VCALENDAR