BEGIN:VCALENDAR
VERSION:2.0
PRODID:-//Lorena Uriarte - ECPv6.15.20//NONSGML v1.0//EN
CALSCALE:GREGORIAN
METHOD:PUBLISH
X-ORIGINAL-URL:https://lorenauriarte.com
X-WR-CALDESC:Events for Lorena Uriarte
REFRESH-INTERVAL;VALUE=DURATION:PT1H
X-Robots-Tag:noindex
X-PUBLISHED-TTL:PT1H
BEGIN:VTIMEZONE
TZID:Australia/Sydney
BEGIN:STANDARD
TZOFFSETFROM:+1100
TZOFFSETTO:+1000
TZNAME:AEST
DTSTART:20220402T160000
END:STANDARD
BEGIN:DAYLIGHT
TZOFFSETFROM:+1000
TZOFFSETTO:+1100
TZNAME:AEDT
DTSTART:20221001T160000
END:DAYLIGHT
BEGIN:STANDARD
TZOFFSETFROM:+1100
TZOFFSETTO:+1000
TZNAME:AEST
DTSTART:20230401T160000
END:STANDARD
BEGIN:DAYLIGHT
TZOFFSETFROM:+1000
TZOFFSETTO:+1100
TZNAME:AEDT
DTSTART:20230930T160000
END:DAYLIGHT
BEGIN:STANDARD
TZOFFSETFROM:+1100
TZOFFSETTO:+1000
TZNAME:AEST
DTSTART:20240406T160000
END:STANDARD
BEGIN:DAYLIGHT
TZOFFSETFROM:+1000
TZOFFSETTO:+1100
TZNAME:AEDT
DTSTART:20241005T160000
END:DAYLIGHT
END:VTIMEZONE
BEGIN:VEVENT
DTSTART;TZID=Australia/Sydney:20230402T093000
DTEND;TZID=Australia/Sydney:20230402T120000
DTSTAMP:20260422T140146
CREATED:20221218T091939Z
LAST-MODIFIED:20230213T101836Z
UID:10000228-1680427800-1680436800@lorenauriarte.com
SUMMARY:UsefulBox : Marrickville
DESCRIPTION:Sunday Quilting
URL:https://lorenauriarte.com/classes/usefulbox-marrickville-16/
LOCATION:UsefulBox\, 39-43 Shepherd St\, Marrickville\, NSW\, 2204\, Australia
END:VEVENT
BEGIN:VEVENT
DTSTART;VALUE=DATE:20230407
DTEND;VALUE=DATE:20230410
DTSTAMP:20260422T140146
CREATED:20221218T111846Z
LAST-MODIFIED:20221218T111846Z
UID:10000239-1680825600-1681084799@lorenauriarte.com
SUMMARY:EASTER
DESCRIPTION:
URL:https://lorenauriarte.com/classes/easter/
LOCATION:NSW
END:VEVENT
BEGIN:VEVENT
DTSTART;TZID=Australia/Sydney:20230408T100000
DTEND;TZID=Australia/Sydney:20230408T160000
DTSTAMP:20260422T140146
CREATED:20221218T095225Z
LAST-MODIFIED:20230401T221233Z
UID:10000236-1680948000-1680969600@lorenauriarte.com
SUMMARY:60 Stitches : Warriewood
DESCRIPTION:8 April \n2nd Saturday Class – \nNOTE: THIS IS EASTER SATURDAY \n10am – 3pm \ninc. lunch and morning tea \nplease make a booking for catering purposes. \nRing Cycles Quilt
URL:https://lorenauriarte.com/classes/60-stitches-warriewood-3/
LOCATION:60 Stitches\, 1301/ 4 Daydream St\, Warriewood\, NSW\, 2101\, Australia
END:VEVENT
BEGIN:VEVENT
DTSTART;TZID=Australia/Sydney:20230412T100000
DTEND;TZID=Australia/Sydney:20230412T150000
DTSTAMP:20260422T140146
CREATED:20230313T041118Z
LAST-MODIFIED:20230313T041118Z
UID:10000441-1681293600-1681311600@lorenauriarte.com
SUMMARY:Kawandi : Fabric Garden
DESCRIPTION:Kawandi Workshop \nbook online via Fabric Garden
URL:https://lorenauriarte.com/classes/kawandi-fabric-garden-4/
LOCATION:Fabric Garden\, Suite 15\, 185 Military Rd\, Neutral Bay\, NSW\, 2089\, Australia
ORGANIZER;CN="Fabric Garden":MAILTO:s.miller@fabricgarden.com.au
END:VEVENT
BEGIN:VEVENT
DTSTART;TZID=Australia/Sydney:20230415T100000
DTEND;TZID=Australia/Sydney:20230415T160000
DTSTAMP:20260422T140146
CREATED:20221218T092159Z
LAST-MODIFIED:20221218T092159Z
UID:10000230-1681552800-1681574400@lorenauriarte.com
SUMMARY:My Sewing Supplies : Sylvania
DESCRIPTION:3rd Saturday Class
URL:https://lorenauriarte.com/classes/my-sewing-supplies-sylvania-37/
LOCATION:My Sewing Supplies\, 208 Princess Hwy\, Sylvania\, NSW\, 2224\, Australia
END:VEVENT
BEGIN:VEVENT
DTSTART;TZID=Australia/Sydney:20230416T100000
DTEND;TZID=Australia/Sydney:20230416T130000
DTSTAMP:20260422T140146
CREATED:20221218T094234Z
LAST-MODIFIED:20221218T111709Z
UID:10000232-1681639200-1681650000@lorenauriarte.com
SUMMARY:UsefulBox : Marrickville
DESCRIPTION:Sunday Quilting
URL:https://lorenauriarte.com/classes/usefulbox-marrickville-17/
LOCATION:UsefulBox\, 39-43 Shepherd St\, Marrickville\, NSW\, 2204\, Australia
END:VEVENT
BEGIN:VEVENT
DTSTART;TZID=Australia/Sydney:20230419T100000
DTEND;TZID=Australia/Sydney:20230419T160000
DTSTAMP:20260422T140146
CREATED:20221218T094459Z
LAST-MODIFIED:20221218T095037Z
UID:10000234-1681898400-1681920000@lorenauriarte.com
SUMMARY:Visible Mending : My Sewing Supplies
DESCRIPTION:Visible Mending
URL:https://lorenauriarte.com/classes/visible-mending-my-sewing-supplies/
LOCATION:My Sewing Supplies\, 208 Princess Hwy\, Sylvania\, NSW\, 2224\, Australia
END:VEVENT
BEGIN:VEVENT
DTSTART;TZID=Australia/Sydney:20230422T100000
DTEND;TZID=Australia/Sydney:20230422T150000
DTSTAMP:20260422T140146
CREATED:20230213T100329Z
LAST-MODIFIED:20230213T100329Z
UID:10000436-1682157600-1682175600@lorenauriarte.com
SUMMARY:Kawandi: Berry
DESCRIPTION:Kawandi in Berry! \nBook Online https://www.berryquiltandco.com.au/events/kawandi-quilting/?mc_cid=470a429188&mc_eid=614d6d6133
URL:https://lorenauriarte.com/classes/kawandi-berry/
LOCATION:Berry Quilt & Co\, SHOPS 4+5 / 66 ALBERT ST\, Berry\, NSW\, 2535\, Australia
END:VEVENT
BEGIN:VEVENT
DTSTART;TZID=Australia/Sydney:20230423T100000
DTEND;TZID=Australia/Sydney:20230423T150000
DTSTAMP:20260422T140146
CREATED:20230313T041324Z
LAST-MODIFIED:20230313T041347Z
UID:10000442-1682244000-1682262000@lorenauriarte.com
SUMMARY:Kawandi : Berry
DESCRIPTION:
URL:https://lorenauriarte.com/classes/kawandi-berry-2/
LOCATION:Berry Quilt & Co\, SHOPS 4+5 / 66 ALBERT ST\, Berry\, NSW\, 2535\, Australia
END:VEVENT
BEGIN:VEVENT
DTSTART;VALUE=DATE:20230425
DTEND;VALUE=DATE:20230426
DTSTAMP:20260422T140146
CREATED:20221218T111757Z
LAST-MODIFIED:20221218T112106Z
UID:10000238-1682380800-1682467199@lorenauriarte.com
SUMMARY:ANZAC DAY
DESCRIPTION:
URL:https://lorenauriarte.com/classes/anzac-day/
LOCATION:NSW
END:VEVENT
BEGIN:VEVENT
DTSTART;TZID=Australia/Sydney:20230429T100000
DTEND;TZID=Australia/Sydney:20230429T150000
DTSTAMP:20260422T140146
CREATED:20230213T095756Z
LAST-MODIFIED:20230313T041708Z
UID:10000435-1682762400-1682780400@lorenauriarte.com
SUMMARY:Kawandi : Mittagong
DESCRIPTION:Kawandi Workshop\nSat 29 April\n10 – 3\n\nBOOKING INFO\n\n\n\n\nwww.afinelinequiltery.com.au\n\n\n\ncalling 0482 023 068\npop into the shop\nemail hello@afinelinequiltery\nmessaging me on Facebook A Fine Line Quiltery\nmessaging me on Instagram @a_fine_line_quiltery
URL:https://lorenauriarte.com/classes/kawandi-mittagong/
LOCATION:A Fine Line Quiltery\, 2B Alice Street\, Mittagong\, NSW\, 2585\, Australia
END:VEVENT
BEGIN:VEVENT
DTSTART;TZID=Australia/Sydney:20230430T100000
DTEND;TZID=Australia/Sydney:20230430T150000
DTSTAMP:20260422T140146
CREATED:20230327T042427Z
LAST-MODIFIED:20230327T042427Z
UID:10000254-1682848800-1682866800@lorenauriarte.com
SUMMARY:Kawandi : UsefulBox Marrickville
DESCRIPTION:BEGINNER KAWANDI QUILT AS YOU GO CLASS\nJoin Lorena Uriarte\, renewed Modern Quilter\, to learn the basics of Kawandi Quilt as you go.\nSkill level: Complete beginner and ready to learn. \nWhat you will learn: \n\nBasic Quilt as you go Principles\n\nWhat is included: \n\nA full kit including needles\, thread\, pins\, fabric and batting.\nExceptional tuition with 11 others in the class\nCopious cups of tea and coffee\n\nWhat you need to bring \n\nNo need to bring your sewing machine.  Everything provided for hand stitching.\nThimble – choose a Clover branded silicon with metal tip thimble\nYour glasses\, if you need them\nYour lunch – microwave\, sandwich press and fridge available.  Or trot up to a local cafe!\n\nDates available: \nSunday 30 April\, 10am to 3pm
URL:https://lorenauriarte.com/classes/kawandi-usefulbox-marrickville-3/
LOCATION:UsefulBox\, 39-43 Shepherd St\, Marrickville\, NSW\, 2204\, Australia
END:VEVENT
END:VCALENDAR