BEGIN:VCALENDAR
VERSION:2.0
PRODID:-//Lorena Uriarte - ECPv6.15.20//NONSGML v1.0//EN
CALSCALE:GREGORIAN
METHOD:PUBLISH
X-ORIGINAL-URL:https://lorenauriarte.com
X-WR-CALDESC:Events for Lorena Uriarte
REFRESH-INTERVAL;VALUE=DURATION:PT1H
X-Robots-Tag:noindex
X-PUBLISHED-TTL:PT1H
BEGIN:VTIMEZONE
TZID:Australia/Sydney
BEGIN:STANDARD
TZOFFSETFROM:+1100
TZOFFSETTO:+1000
TZNAME:AEST
DTSTART:20220402T160000
END:STANDARD
BEGIN:DAYLIGHT
TZOFFSETFROM:+1000
TZOFFSETTO:+1100
TZNAME:AEDT
DTSTART:20221001T160000
END:DAYLIGHT
BEGIN:STANDARD
TZOFFSETFROM:+1100
TZOFFSETTO:+1000
TZNAME:AEST
DTSTART:20230401T160000
END:STANDARD
BEGIN:DAYLIGHT
TZOFFSETFROM:+1000
TZOFFSETTO:+1100
TZNAME:AEDT
DTSTART:20230930T160000
END:DAYLIGHT
BEGIN:STANDARD
TZOFFSETFROM:+1100
TZOFFSETTO:+1000
TZNAME:AEST
DTSTART:20240406T160000
END:STANDARD
BEGIN:DAYLIGHT
TZOFFSETFROM:+1000
TZOFFSETTO:+1100
TZNAME:AEDT
DTSTART:20241005T160000
END:DAYLIGHT
END:VTIMEZONE
BEGIN:VEVENT
DTSTART;VALUE=DATE:20230909
DTEND;VALUE=DATE:20230911
DTSTAMP:20260421T145206
CREATED:20230613T074144Z
LAST-MODIFIED:20230613T074206Z
UID:10000453-1694217600-1694390399@lorenauriarte.com
SUMMARY:Quilt Coat Workshop : Berry Quilt & CO
DESCRIPTION:
URL:https://lorenauriarte.com/classes/quilt-coat-workshop-berry-quilt-co/
LOCATION:Berry Quilt & Co\, SHOPS 4+5 / 66 ALBERT ST\, Berry\, NSW\, 2535\, Australia
END:VEVENT
BEGIN:VEVENT
DTSTART;TZID=Australia/Sydney:20230913T100000
DTEND;TZID=Australia/Sydney:20230913T150000
DTSTAMP:20260421T145206
CREATED:20230613T074255Z
LAST-MODIFIED:20230613T074255Z
UID:10000454-1694599200-1694617200@lorenauriarte.com
SUMMARY:Berry Quilt & Co
DESCRIPTION:
URL:https://lorenauriarte.com/classes/berry-quilt-co-6/
LOCATION:Berry Quilt & Co\, SHOPS 4+5 / 66 ALBERT ST\, Berry\, NSW\, 2535\, Australia
END:VEVENT
BEGIN:VEVENT
DTSTART;TZID=Australia/Sydney:20230913T130000
DTEND;TZID=Australia/Sydney:20230913T150000
DTSTAMP:20260421T145206
CREATED:20230213T095301Z
LAST-MODIFIED:20230213T095301Z
UID:10000433-1694610000-1694617200@lorenauriarte.com
SUMMARY:Berry Quilt & Co
DESCRIPTION:Anything Goes sessions \n8 March \n10 May \n12 July \n13 September \n8 November \n  \nmore info here: https://www.berryquiltandco.com.au/events/lorena_anything_goes/
URL:https://lorenauriarte.com/classes/berry-quilt-co-4/
LOCATION:Berry Quilt & Co\, SHOPS 4+5 / 66 ALBERT ST\, Berry\, NSW\, 2535\, Australia
END:VEVENT
BEGIN:VEVENT
DTSTART;VALUE=DATE:20230915
DTEND;VALUE=DATE:20230918
DTSTAMP:20260421T145206
CREATED:20230613T074516Z
LAST-MODIFIED:20230613T074516Z
UID:10000455-1694736000-1694995199@lorenauriarte.com
SUMMARY:Sydney Quilt Show : Rosehill
DESCRIPTION:https://quiltnsw.com/exhibitions/quiltshow/
URL:https://lorenauriarte.com/classes/sydney-quilt-show-rosehill/
LOCATION:NSW
END:VEVENT
BEGIN:VEVENT
DTSTART;VALUE=DATE:20230919
DTEND;VALUE=DATE:20230923
DTSTAMP:20260421T145206
CREATED:20230613T074651Z
LAST-MODIFIED:20230613T074651Z
UID:10000456-1695081600-1695427199@lorenauriarte.com
SUMMARY:Thread House Retreat : Yorkshire UK
DESCRIPTION:retreats
URL:https://lorenauriarte.com/classes/thread-house-retreat-yorkshire-uk/
LOCATION:NSW
END:VEVENT
BEGIN:VEVENT
DTSTART;VALUE=DATE:20230923
DTEND;VALUE=DATE:20230925
DTSTAMP:20260421T145206
CREATED:20230613T074749Z
LAST-MODIFIED:20230613T074749Z
UID:10000457-1695427200-1695599999@lorenauriarte.com
SUMMARY:Edinburgh MQG : TBA
DESCRIPTION:
URL:https://lorenauriarte.com/classes/edinburgh-mqg-tba/
LOCATION:NSW
END:VEVENT
BEGIN:VEVENT
DTSTART;VALUE=DATE:20230930
DTEND;VALUE=DATE:20231001
DTSTAMP:20260421T145206
CREATED:20230613T074833Z
LAST-MODIFIED:20230613T074833Z
UID:10000458-1696032000-1696118399@lorenauriarte.com
SUMMARY:London MQG : TBA
DESCRIPTION:
URL:https://lorenauriarte.com/classes/london-mqg-tba/
LOCATION:NSW
END:VEVENT
END:VCALENDAR