BEGIN:VCALENDAR
VERSION:2.0
PRODID:-//Lorena Uriarte - ECPv6.15.20//NONSGML v1.0//EN
CALSCALE:GREGORIAN
METHOD:PUBLISH
X-WR-CALNAME:Lorena Uriarte
X-ORIGINAL-URL:https://lorenauriarte.com
X-WR-CALDESC:Events for Lorena Uriarte
REFRESH-INTERVAL;VALUE=DURATION:PT1H
X-Robots-Tag:noindex
X-PUBLISHED-TTL:PT1H
BEGIN:VTIMEZONE
TZID:Australia/Sydney
BEGIN:STANDARD
TZOFFSETFROM:+1100
TZOFFSETTO:+1000
TZNAME:AEST
DTSTART:20220402T160000
END:STANDARD
BEGIN:DAYLIGHT
TZOFFSETFROM:+1000
TZOFFSETTO:+1100
TZNAME:AEDT
DTSTART:20221001T160000
END:DAYLIGHT
BEGIN:STANDARD
TZOFFSETFROM:+1100
TZOFFSETTO:+1000
TZNAME:AEST
DTSTART:20230401T160000
END:STANDARD
BEGIN:DAYLIGHT
TZOFFSETFROM:+1000
TZOFFSETTO:+1100
TZNAME:AEDT
DTSTART:20230930T160000
END:DAYLIGHT
BEGIN:STANDARD
TZOFFSETFROM:+1100
TZOFFSETTO:+1000
TZNAME:AEST
DTSTART:20240406T160000
END:STANDARD
BEGIN:DAYLIGHT
TZOFFSETFROM:+1000
TZOFFSETTO:+1100
TZNAME:AEDT
DTSTART:20241005T160000
END:DAYLIGHT
END:VTIMEZONE
BEGIN:VEVENT
DTSTART;TZID=Australia/Sydney:20231018T100000
DTEND;TZID=Australia/Sydney:20231018T160000
DTSTAMP:20260421T144703
CREATED:20230613T075203Z
LAST-MODIFIED:20230613T075203Z
UID:10000460-1697623200-1697644800@lorenauriarte.com
SUMMARY:My Sewing Supplies : Sylvania
DESCRIPTION:
URL:https://lorenauriarte.com/classes/my-sewing-supplies-sylvania-42/
LOCATION:NSW
END:VEVENT
BEGIN:VEVENT
DTSTART;TZID=Australia/Sydney:20231021T100000
DTEND;TZID=Australia/Sydney:20231021T160000
DTSTAMP:20260421T144703
CREATED:20230823T234145Z
LAST-MODIFIED:20230823T234145Z
UID:10000287-1697882400-1697904000@lorenauriarte.com
SUMMARY:MY SEWING SUPPLIES : SYLVANIA
DESCRIPTION:
URL:https://lorenauriarte.com/classes/my-sewing-supplies-sylvania-43/
LOCATION:My Sewing Supplies\, 208 Princess Hwy\, Sylvania\, NSW\, 2224\, Australia
END:VEVENT
BEGIN:VEVENT
DTSTART;TZID=Australia/Sydney:20231022T100000
DTEND;TZID=Australia/Sydney:20231022T150000
DTSTAMP:20260421T144703
CREATED:20230713T130323Z
LAST-MODIFIED:20230713T130357Z
UID:10000276-1697968800-1697986800@lorenauriarte.com
SUMMARY:Learn to Quilt: UsefulBox Marrickville
DESCRIPTION:Learn to quilt! \nEach week we will build on the skills learnt from the previous week to create a colourful Sampler quilt with 12″ blocks. \nSkill level: Complete beginner to quilting but must know the basics of sewing and be fairly confident with your machine. \nWhat you will learn: \n\nBasic & beyond Quilting Principals\n\nWhat is included: \n\nSome fabrics\nPatterns to take home\nExceptional tuition with only 5 others in the class\nCopious cups of tea and coffee\n\nWhat you need to bring \n\nFabric and Thread – notes given in booking confirmation.\nYour machine along with all it’s power cords and the foot pedal\nThe machines accessories\, especially all the feet\nYour fabric scissors and sewing kit\n\nDates available: \n3 classes in total – Sundays 22 October\, 29 October\, 5 November \n10am to 3pm each week
URL:https://lorenauriarte.com/classes/learn-to-quilt-usefulbox-marrickville/
LOCATION:UsefulBox\, 39-43 Shepherd St\, Marrickville\, NSW\, 2204\, Australia
END:VEVENT
BEGIN:VEVENT
DTSTART;TZID=Australia/Sydney:20231029T100000
DTEND;TZID=Australia/Sydney:20231029T150000
DTSTAMP:20260421T144703
CREATED:20230713T130615Z
LAST-MODIFIED:20230713T130615Z
UID:10000278-1698573600-1698591600@lorenauriarte.com
SUMMARY:Learn to Quilt: UsefulBox Marrickville
DESCRIPTION:Learn to quilt! \nEach week we will build on the skills learnt from the previous week to create a colourful Sampler quilt with 12″ blocks. \nSkill level: Complete beginner to quilting but must know the basics of sewing and be fairly confident with your machine. \nWhat you will learn: \n\nBasic & beyond Quilting Principals\n\nWhat is included: \n\nSome fabrics\nPatterns to take home\nExceptional tuition with only 5 others in the class\nCopious cups of tea and coffee\n\nWhat you need to bring \n\nFabric and Thread – notes given in booking confirmation.\nYour machine along with all it’s power cords and the foot pedal\nThe machines accessories\, especially all the feet\nYour fabric scissors and sewing kit\n\nDates available: \n3 classes in total – Sundays 22 October\, 29 October\, 5 November \n10am to 3pm each week
URL:https://lorenauriarte.com/classes/learn-to-quilt-usefulbox-marrickville-2/
LOCATION:UsefulBox\, 39-43 Shepherd St\, Marrickville\, NSW\, 2204\, Australia
END:VEVENT
END:VCALENDAR