BEGIN:VCALENDAR
VERSION:2.0
PRODID:-//Lorena Uriarte - ECPv6.15.20//NONSGML v1.0//EN
CALSCALE:GREGORIAN
METHOD:PUBLISH
X-ORIGINAL-URL:https://lorenauriarte.com
X-WR-CALDESC:Events for Lorena Uriarte
REFRESH-INTERVAL;VALUE=DURATION:PT1H
X-Robots-Tag:noindex
X-PUBLISHED-TTL:PT1H
BEGIN:VTIMEZONE
TZID:Australia/Sydney
BEGIN:STANDARD
TZOFFSETFROM:+1100
TZOFFSETTO:+1000
TZNAME:AEST
DTSTART:20140405T160000
END:STANDARD
BEGIN:DAYLIGHT
TZOFFSETFROM:+1000
TZOFFSETTO:+1100
TZNAME:AEDT
DTSTART:20141004T160000
END:DAYLIGHT
BEGIN:STANDARD
TZOFFSETFROM:+1100
TZOFFSETTO:+1000
TZNAME:AEST
DTSTART:20150404T160000
END:STANDARD
BEGIN:DAYLIGHT
TZOFFSETFROM:+1000
TZOFFSETTO:+1100
TZNAME:AEDT
DTSTART:20151003T160000
END:DAYLIGHT
BEGIN:STANDARD
TZOFFSETFROM:+1100
TZOFFSETTO:+1000
TZNAME:AEST
DTSTART:20160402T160000
END:STANDARD
BEGIN:DAYLIGHT
TZOFFSETFROM:+1000
TZOFFSETTO:+1100
TZNAME:AEDT
DTSTART:20161001T160000
END:DAYLIGHT
END:VTIMEZONE
BEGIN:VEVENT
DTSTART;TZID=Australia/Sydney:20150213T100000
DTEND;TZID=Australia/Sydney:20150213T150000
DTSTAMP:20260423T084924
CREATED:20141215T113500Z
LAST-MODIFIED:20150101T041806Z
UID:10000002-1423821600-1423839600@lorenauriarte.com
SUMMARY:Chuck Nohara Friday Class @ Material Obsession
DESCRIPTION:Japanese patchwork is delightfully quirky and addictive\, the patchwork blocks in Chuck Nohara’s 2001 New Patchwork Patterns are no exception.  Once a month\, Lorena will guide you as you create your own masterpiece sampler quilt.   \nClasses are guided by the needs of the students and loosely structured to cover block and layout design\, different methods of construction including machine and hand piecing options\, applique techniques and English paper piecing. With 2001 block options ranging from the idiosyncratic to the traditional there are enough blocks for a lifetime of quilts!  \n(All students are required to own a copy of the book\, available from MO). \n 
URL:https://lorenauriarte.com/classes/chucknoharamo/
END:VEVENT
END:VCALENDAR