BEGIN:VCALENDAR
VERSION:2.0
PRODID:-//Lorena Uriarte - ECPv6.15.20//NONSGML v1.0//EN
CALSCALE:GREGORIAN
METHOD:PUBLISH
X-WR-CALNAME:Lorena Uriarte
X-ORIGINAL-URL:https://lorenauriarte.com
X-WR-CALDESC:Events for Lorena Uriarte
REFRESH-INTERVAL;VALUE=DURATION:PT1H
X-Robots-Tag:noindex
X-PUBLISHED-TTL:PT1H
BEGIN:VTIMEZONE
TZID:Australia/Sydney
BEGIN:STANDARD
TZOFFSETFROM:+1100
TZOFFSETTO:+1000
TZNAME:AEST
DTSTART:20250405T160000
END:STANDARD
BEGIN:DAYLIGHT
TZOFFSETFROM:+1000
TZOFFSETTO:+1100
TZNAME:AEDT
DTSTART:20251004T160000
END:DAYLIGHT
BEGIN:STANDARD
TZOFFSETFROM:+1100
TZOFFSETTO:+1000
TZNAME:AEST
DTSTART:20260404T160000
END:STANDARD
BEGIN:DAYLIGHT
TZOFFSETFROM:+1000
TZOFFSETTO:+1100
TZNAME:AEDT
DTSTART:20261003T160000
END:DAYLIGHT
BEGIN:STANDARD
TZOFFSETFROM:+1100
TZOFFSETTO:+1000
TZNAME:AEST
DTSTART:20270403T160000
END:STANDARD
BEGIN:DAYLIGHT
TZOFFSETFROM:+1000
TZOFFSETTO:+1100
TZNAME:AEDT
DTSTART:20271002T160000
END:DAYLIGHT
END:VTIMEZONE
BEGIN:VEVENT
DTSTART;TZID=Australia/Sydney:20260314T100000
DTEND;TZID=Australia/Sydney:20260314T150000
DTSTAMP:20260421T015423
CREATED:20260107T025412Z
LAST-MODIFIED:20260107T030438Z
UID:10000548-1773482400-1773500400@lorenauriarte.com
SUMMARY:2nd Saturday Class: 60 Stitches (Warriewood)
DESCRIPTION:Join a friendly group of quilters in this monthly class at 60 Stitches in Warriewood\, on Sydney’s Northern Beaches. \nBring your own project or choose from one of my designs. I’ve even been known to create something special for my regular students! With over 20 years of experience\, I’ll guide you through any technique\, whether you prefer hand or machine quilting. \nAll cutting and pressing tools are there so all you need to bring is your project\, your machine and general sewing supplies. \nPlus\, you’ll have access to 60 Stitches’ beautiful selection of fabrics and notions to inspire your next creation. \nClass fee is $85 per month which includes coffee\, tea and my famous home baked treats! \nONLINE BOOKINGS HERE! \n2026 DATES \n10 JAN \n’14 FEB \n14 MARCH \nNO APRIL CLASS (AQC) \n9 MAY \n13  JUNE \n11 JULY \n8 AUG \nNO CLASS SEPTEMBER (MOROCCO TRIP) \n10 OCT \n14 NOV \n12 DEC
URL:https://lorenauriarte.com/classes/2nd-saturday-class-60-stitches-warriewood-3-2-2/2026-03-14/
LOCATION:60 Stitches\, 1301/ 4 Daydream St\, Warriewood\, NSW\, 2101\, Australia
CATEGORIES:60 Stitches
ATTACH;FMTTYPE=image/jpeg:https://lorenauriarte.com/wp-content/uploads/2025/02/60-Stitches.jpg
END:VEVENT
BEGIN:VEVENT
DTSTART;TZID=Australia/Sydney:20260318T100000
DTEND;TZID=Australia/Sydney:20260318T150000
DTSTAMP:20260421T015423
CREATED:20260107T063548Z
LAST-MODIFIED:20260107T063610Z
UID:10000681-1773828000-1773846000@lorenauriarte.com
SUMMARY:KAWANDI: My Sewing Supplies (Sylvania)
DESCRIPTION:  \n  \n  \n  \n  \n  \n  \n  \nKawandi is a practice of slow making. In this hands-on workshop we stitch intuitively\, building layers of cloth\, rhythm and texture through hand quilting and repetition. Suitable for all skill levels\, it offers a relaxed\, improvisational approach and is a wonderful way to use up fabric scraps. A kit will be provided. \nMake a modern style quilt – Lorena Uriarte \n3rd Wednesday of the month \n10am – 4pm each day \nTuition fee is $90 \n  \nLorena has many of her own quilt options and styles to choose from\, Ring Cycles\, Opal Essence\, Winding Ways\, Kawandi\, Court House Steps\, Sakura Breeze just to name a few. \n  \nOr you could learn the basics for patchwork piecing by making one of Lorena’s other quilts including a sampler quilt. It has options to do varying blocks or to make a quilt repeating the block you like. Lorena will show you how to make blocks and guide you to make a quilt that has your style built into it. \n  \nThe fabric/ requirements\, templates and if needed commercial patterns are in addition to the tuition fee. Price will depend on what you choose. We have a big selection and price point in store. We are happy to help you. \n  \nThis class is held at our Sylvania Store \n208 Princes Highway Sylvania NSW 2224 \n  \nPlease read our terms and conditions prior to booking \nTerms and Conditions | my-sewing-supplies (mysewingsupplies.com.au) \n  \nPlease select in store pick up as your freight option to avoid the minimum charge. \n  \nRequirements list is available if you want to see them before booking. Please reach out online or in store.
URL:https://lorenauriarte.com/classes/kawandi-my-sewing-supplies-sylvania-2/
LOCATION:My Sewing Supplies\, 208 Princess Hwy\, Sylvania\, NSW\, 2224\, Australia
ATTACH;FMTTYPE=image/jpeg:https://lorenauriarte.com/wp-content/uploads/2026/01/Lorena-Kawandi-Demo.jpg
END:VEVENT
END:VCALENDAR