BEGIN:VCALENDAR
VERSION:2.0
PRODID:-//Lorena Uriarte - ECPv6.15.20//NONSGML v1.0//EN
CALSCALE:GREGORIAN
METHOD:PUBLISH
X-WR-CALNAME:Lorena Uriarte
X-ORIGINAL-URL:https://lorenauriarte.com
X-WR-CALDESC:Events for Lorena Uriarte
REFRESH-INTERVAL;VALUE=DURATION:PT1H
X-Robots-Tag:noindex
X-PUBLISHED-TTL:PT1H
BEGIN:VTIMEZONE
TZID:Australia/Sydney
BEGIN:STANDARD
TZOFFSETFROM:+1100
TZOFFSETTO:+1000
TZNAME:AEST
DTSTART:20140405T160000
END:STANDARD
BEGIN:DAYLIGHT
TZOFFSETFROM:+1000
TZOFFSETTO:+1100
TZNAME:AEDT
DTSTART:20141004T160000
END:DAYLIGHT
BEGIN:STANDARD
TZOFFSETFROM:+1100
TZOFFSETTO:+1000
TZNAME:AEST
DTSTART:20150404T160000
END:STANDARD
BEGIN:DAYLIGHT
TZOFFSETFROM:+1000
TZOFFSETTO:+1100
TZNAME:AEDT
DTSTART:20151003T160000
END:DAYLIGHT
BEGIN:STANDARD
TZOFFSETFROM:+1100
TZOFFSETTO:+1000
TZNAME:AEST
DTSTART:20160402T160000
END:STANDARD
BEGIN:DAYLIGHT
TZOFFSETFROM:+1000
TZOFFSETTO:+1100
TZNAME:AEDT
DTSTART:20161001T160000
END:DAYLIGHT
END:VTIMEZONE
BEGIN:VEVENT
DTSTART;TZID=Australia/Sydney:20150914T190000
DTEND;TZID=Australia/Sydney:20150914T210000
DTSTAMP:20260423T114552
CREATED:20150719T134714Z
LAST-MODIFIED:20150903T000419Z
UID:10000081-1442257200-1442264400@lorenauriarte.com
SUMMARY:Patchwork & Quilting Class in Randwick
DESCRIPTION:This is an 8 week course ideal for beginners and continuing quilters. \nEach week we learn a new technique to construct a beautiful patchwork sampler quilt. \nUse fabrics that you love to create a traditional or contemporary quilt. \nSuitable for hand or machine piecing. \nFurther information available here: https://www.cityeastcc.com.au/course/patch \nEvery Monday night for 8 weeks\, 7:00pm to 9:00pm at Randwick Girls HS. \nDates: \n20th July \n27th July \n3rd August \n10th August \n17th August \n24th August \n31st August \n14th September
URL:https://lorenauriarte.com/classes/patchwork-quilting-class-in-randwick-4/
LOCATION:NSW
CATEGORIES:City East Community College
END:VEVENT
BEGIN:VEVENT
DTSTART;TZID=Australia/Sydney:20150926T100000
DTEND;TZID=Australia/Sydney:20150926T150000
DTSTAMP:20260423T114552
CREATED:20150604T020055Z
LAST-MODIFIED:20150903T005710Z
UID:10000067-1443261600-1443279600@lorenauriarte.com
SUMMARY:Opal Essence Workshop : Quiltsmith
DESCRIPTION:Opal Essence is Lorena’s original quilt design. The finished quilt is 83″ x 84″. \nIn this one day workshop you will learn the techniques and tips to make this stunning quilt. \nYou will learn how to applique and machine piece the curves\, sew accurate y-seams and construct your quilt top with the various setting triangles. Class notes also include bonus instructions for a smaller  baby size quilt measuring 41″ x 48″. \nMake this quilt in a variety colours or tones to make it your own! \nCutting is done with an acrylic template set available to purchase from Lorena for $30. \n \nMore details to come or contact Quiltsmith for any queries. \n 
URL:https://lorenauriarte.com/classes/opal-essence-workshop-quiltsmith/
LOCATION:NSW
CATEGORIES:Quiltsmith
END:VEVENT
END:VCALENDAR