BEGIN:VCALENDAR
VERSION:2.0
PRODID:-//Lorena Uriarte - ECPv6.15.20//NONSGML v1.0//EN
CALSCALE:GREGORIAN
METHOD:PUBLISH
X-WR-CALNAME:Lorena Uriarte
X-ORIGINAL-URL:https://lorenauriarte.com
X-WR-CALDESC:Events for Lorena Uriarte
REFRESH-INTERVAL;VALUE=DURATION:PT1H
X-Robots-Tag:noindex
X-PUBLISHED-TTL:PT1H
BEGIN:VTIMEZONE
TZID:Australia/Sydney
BEGIN:STANDARD
TZOFFSETFROM:+1100
TZOFFSETTO:+1000
TZNAME:AEST
DTSTART:20150404T160000
END:STANDARD
BEGIN:DAYLIGHT
TZOFFSETFROM:+1000
TZOFFSETTO:+1100
TZNAME:AEDT
DTSTART:20151003T160000
END:DAYLIGHT
BEGIN:STANDARD
TZOFFSETFROM:+1100
TZOFFSETTO:+1000
TZNAME:AEST
DTSTART:20160402T160000
END:STANDARD
BEGIN:DAYLIGHT
TZOFFSETFROM:+1000
TZOFFSETTO:+1100
TZNAME:AEDT
DTSTART:20161001T160000
END:DAYLIGHT
BEGIN:STANDARD
TZOFFSETFROM:+1100
TZOFFSETTO:+1000
TZNAME:AEST
DTSTART:20170401T160000
END:STANDARD
BEGIN:DAYLIGHT
TZOFFSETFROM:+1000
TZOFFSETTO:+1100
TZNAME:AEDT
DTSTART:20170930T160000
END:DAYLIGHT
END:VTIMEZONE
BEGIN:VEVENT
DTSTART;TZID=Australia/Sydney:20160120T100000
DTEND;TZID=Australia/Sydney:20160120T160000
DTSTAMP:20260421T094758
CREATED:20150903T002010Z
LAST-MODIFIED:20150903T002010Z
UID:10000092-1453284000-1453305600@lorenauriarte.com
SUMMARY:Swirly Gig Quilt at Quiltsmith
DESCRIPTION:As part of the Quiltsmith Summer School series I will be teaching my new Swirly Gig quilt pattern at Quiltsmith on January 20th\, 2016 \nStay tuned for further details or keep an eye on the Quiltsmith blog! \nSwirly Gig Quilt – Lorena Uriarte \n 
URL:https://lorenauriarte.com/classes/swirly-gig-quilt-at-quiltsmith/
CATEGORIES:Quiltsmith
END:VEVENT
END:VCALENDAR