BEGIN:VCALENDAR
VERSION:2.0
PRODID:-//Lorena Uriarte - ECPv6.15.20//NONSGML v1.0//EN
CALSCALE:GREGORIAN
METHOD:PUBLISH
X-WR-CALNAME:Lorena Uriarte
X-ORIGINAL-URL:https://lorenauriarte.com
X-WR-CALDESC:Events for Lorena Uriarte
REFRESH-INTERVAL;VALUE=DURATION:PT1H
X-Robots-Tag:noindex
X-PUBLISHED-TTL:PT1H
BEGIN:VTIMEZONE
TZID:Australia/Sydney
BEGIN:STANDARD
TZOFFSETFROM:+1100
TZOFFSETTO:+1000
TZNAME:AEST
DTSTART:20230401T160000
END:STANDARD
BEGIN:DAYLIGHT
TZOFFSETFROM:+1000
TZOFFSETTO:+1100
TZNAME:AEDT
DTSTART:20230930T160000
END:DAYLIGHT
BEGIN:STANDARD
TZOFFSETFROM:+1100
TZOFFSETTO:+1000
TZNAME:AEST
DTSTART:20240406T160000
END:STANDARD
BEGIN:DAYLIGHT
TZOFFSETFROM:+1000
TZOFFSETTO:+1100
TZNAME:AEDT
DTSTART:20241005T160000
END:DAYLIGHT
BEGIN:STANDARD
TZOFFSETFROM:+1100
TZOFFSETTO:+1000
TZNAME:AEST
DTSTART:20250405T160000
END:STANDARD
BEGIN:DAYLIGHT
TZOFFSETFROM:+1000
TZOFFSETTO:+1100
TZNAME:AEDT
DTSTART:20251004T160000
END:DAYLIGHT
END:VTIMEZONE
BEGIN:VEVENT
DTSTART;TZID=Australia/Sydney:20240421T100000
DTEND;TZID=Australia/Sydney:20240421T150000
DTSTAMP:20260421T130919
CREATED:20240207T033821Z
LAST-MODIFIED:20240207T033821Z
UID:10000532-1713693600-1713711600@lorenauriarte.com
SUMMARY:Scraptastic Quilting : UsefulBox (Marrickville)
DESCRIPTION:QUILT WITH YOUR SCRAPS\nScrap advocate and renowned Modern Quilter\, Lorena Uriarte\, wants to show you how to love those scraps you have lurking and make them into something you love!\nWe all want to be more sustainable in our sewing practice\, we all want to learn something new and we all want to have fun doing it!  This is THAT CLASS!\nLorena is passionate about sustainability and showing us how she uses her scraps and offcuts to make something amazing.  So she will take you\, & your scraps\, by the hand in this class and you’ll sew up a cute quilted coin purse together. \nAll you need to bring is your machine and your offcuts\, hand me downs\, doilies\, anything you have waiting for new life….Plus Lorena will likely bake something too! \nALL OF THE SKILLS LEARNED IN THIS CLASS ARE TRANSFERABLE TO ANY TYPE OF QUILTING\, GARMENT SEWING\, BAG MAKING OR PATCHWORK.
URL:https://lorenauriarte.com/classes/scraptastic-quilting-usefulbox-marrickville/
LOCATION:UsefulBox\, 39-43 Shepherd St\, Marrickville\, NSW\, 2204\, Australia
ORGANIZER;CN="UsefulBox":MAILTO:hello@usefulbox.com.au
END:VEVENT
BEGIN:VEVENT
DTSTART;TZID=Australia/Sydney:20240419T093000
DTEND;TZID=Australia/Sydney:20240419T120000
DTSTAMP:20260421T130919
CREATED:20231222T030423Z
LAST-MODIFIED:20240125T065650Z
UID:10000502-1713519000-1713528000@lorenauriarte.com
SUMMARY:Quilt Clinic : UsefulBox (Marrickville)
DESCRIPTION:
URL:https://lorenauriarte.com/classes/beginner-quilting-usefulbox-marrickville-2/2024-04-19/
LOCATION:UsefulBox\, 39-43 Shepherd St\, Marrickville\, NSW\, 2204\, Australia
ORGANIZER;CN="UsefulBox":MAILTO:hello@usefulbox.com.au
END:VEVENT
BEGIN:VEVENT
DTSTART;TZID=Australia/Sydney:20240315T093000
DTEND;TZID=Australia/Sydney:20240315T120000
DTSTAMP:20260421T130919
CREATED:20231222T030423Z
LAST-MODIFIED:20240125T065650Z
UID:10000501-1710495000-1710504000@lorenauriarte.com
SUMMARY:Quilt Clinic : UsefulBox (Marrickville)
DESCRIPTION:
URL:https://lorenauriarte.com/classes/beginner-quilting-usefulbox-marrickville-2/2024-03-15/
LOCATION:UsefulBox\, 39-43 Shepherd St\, Marrickville\, NSW\, 2204\, Australia
ORGANIZER;CN="UsefulBox":MAILTO:hello@usefulbox.com.au
END:VEVENT
BEGIN:VEVENT
DTSTART;TZID=Australia/Sydney:20240310T100000
DTEND;TZID=Australia/Sydney:20240310T150000
DTSTAMP:20260421T130919
CREATED:20240207T033547Z
LAST-MODIFIED:20240207T033547Z
UID:10000531-1710064800-1710082800@lorenauriarte.com
SUMMARY:Retreat Bag : UsefulBox (Marrickville)
DESCRIPTION:Join Lorena Uriarte\, renewed Modern Quilter\, to learn how to make this super cute zip pouch featuring your own quilted panels!\nHave you been looking for your next zippy pouch project? Something practical to make for friends or to treat yourself. Look no further than the Emmaline Retreat Bag. It’s such a clever pattern\, designed by @emmalinebags using their special hardware that opens wide for easy access to the contents of your pouch. \nUse up your scraps and make a Kawandi inspired exterior\, or maybe you’ve got some Boro or Sashiko or simply Quilted  panels you’d like to put to work. A special piece of fabric or orphaned patchwork blocks would also work well. To make the large pouch you’ll need two (2) pieces at least 18.5” x 12” each.
URL:https://lorenauriarte.com/classes/retreat-bag-usefulbox-marrickville-2/
LOCATION:UsefulBox\, 39-43 Shepherd St\, Marrickville\, NSW\, 2204\, Australia
ORGANIZER;CN="UsefulBox":MAILTO:hello@usefulbox.com.au
END:VEVENT
BEGIN:VEVENT
DTSTART;TZID=Australia/Sydney:20240218T100000
DTEND;TZID=Australia/Sydney:20240218T150000
DTSTAMP:20260421T130919
CREATED:20231222T030813Z
LAST-MODIFIED:20231222T031652Z
UID:10000511-1708250400-1708268400@lorenauriarte.com
SUMMARY:Kawandi : UsefulBox (Marrickville)
DESCRIPTION:
URL:https://lorenauriarte.com/classes/kawandi-usefulbox-marrickville-6/
LOCATION:UsefulBox\, 39-43 Shepherd St\, Marrickville\, NSW\, 2204\, Australia
ORGANIZER;CN="UsefulBox":MAILTO:hello@usefulbox.com.au
END:VEVENT
BEGIN:VEVENT
DTSTART;TZID=Australia/Sydney:20240216T093000
DTEND;TZID=Australia/Sydney:20240216T120000
DTSTAMP:20260421T130919
CREATED:20231222T030423Z
LAST-MODIFIED:20240125T065650Z
UID:10000500-1708075800-1708084800@lorenauriarte.com
SUMMARY:Quilt Clinic : UsefulBox (Marrickville)
DESCRIPTION:
URL:https://lorenauriarte.com/classes/beginner-quilting-usefulbox-marrickville-2/2024-02-16/
LOCATION:UsefulBox\, 39-43 Shepherd St\, Marrickville\, NSW\, 2204\, Australia
ORGANIZER;CN="UsefulBox":MAILTO:hello@usefulbox.com.au
END:VEVENT
END:VCALENDAR