BEGIN:VCALENDAR
VERSION:2.0
PRODID:-//Lorena Uriarte - ECPv6.15.20//NONSGML v1.0//EN
CALSCALE:GREGORIAN
METHOD:PUBLISH
X-ORIGINAL-URL:https://lorenauriarte.com
X-WR-CALDESC:Events for Lorena Uriarte
REFRESH-INTERVAL;VALUE=DURATION:PT1H
X-Robots-Tag:noindex
X-PUBLISHED-TTL:PT1H
BEGIN:VTIMEZONE
TZID:Australia/Sydney
BEGIN:STANDARD
TZOFFSETFROM:+1100
TZOFFSETTO:+1000
TZNAME:AEST
DTSTART:20210403T160000
END:STANDARD
BEGIN:DAYLIGHT
TZOFFSETFROM:+1000
TZOFFSETTO:+1100
TZNAME:AEDT
DTSTART:20211002T160000
END:DAYLIGHT
BEGIN:STANDARD
TZOFFSETFROM:+1100
TZOFFSETTO:+1000
TZNAME:AEST
DTSTART:20220402T160000
END:STANDARD
BEGIN:DAYLIGHT
TZOFFSETFROM:+1000
TZOFFSETTO:+1100
TZNAME:AEDT
DTSTART:20221001T160000
END:DAYLIGHT
BEGIN:STANDARD
TZOFFSETFROM:+1100
TZOFFSETTO:+1000
TZNAME:AEST
DTSTART:20230401T160000
END:STANDARD
BEGIN:DAYLIGHT
TZOFFSETFROM:+1000
TZOFFSETTO:+1100
TZNAME:AEDT
DTSTART:20230930T160000
END:DAYLIGHT
BEGIN:STANDARD
TZOFFSETFROM:+1100
TZOFFSETTO:+1000
TZNAME:AEST
DTSTART:20240406T160000
END:STANDARD
BEGIN:DAYLIGHT
TZOFFSETFROM:+1000
TZOFFSETTO:+1100
TZNAME:AEDT
DTSTART:20241005T160000
END:DAYLIGHT
BEGIN:STANDARD
TZOFFSETFROM:+1100
TZOFFSETTO:+1000
TZNAME:AEST
DTSTART:20250405T160000
END:STANDARD
BEGIN:DAYLIGHT
TZOFFSETFROM:+1000
TZOFFSETTO:+1100
TZNAME:AEDT
DTSTART:20251004T160000
END:DAYLIGHT
BEGIN:STANDARD
TZOFFSETFROM:+1100
TZOFFSETTO:+1000
TZNAME:AEST
DTSTART:20260404T160000
END:STANDARD
BEGIN:DAYLIGHT
TZOFFSETFROM:+1000
TZOFFSETTO:+1100
TZNAME:AEDT
DTSTART:20261003T160000
END:DAYLIGHT
END:VTIMEZONE
BEGIN:VEVENT
DTSTART;TZID=Australia/Sydney:20250614T100000
DTEND;TZID=Australia/Sydney:20250614T150000
DTSTAMP:20260422T011030
CREATED:20250201T062247Z
LAST-MODIFIED:20250210T013148Z
UID:10000539-1749895200-1749913200@lorenauriarte.com
SUMMARY:2nd Saturday Class: 60 Stitches (Warriewood)
DESCRIPTION:Join a friendly group of quilters in this monthly class at 60 Stitches in Warriewood\, on Sydney’s Northern Beaches. \nBring your own project or choose from one of my designs. I’ve even been known to create something special for my regular students! With over 20 years of experience\, I’ll guide you through any technique\, whether you prefer hand or machine quilting. \nAll te cutting and pressing tools are there so all you need to bring is your project\, your machine and general sewing supplies. \nPlus\, you’ll have access to 60 Stitches’ beautiful selection of fabrics and notions to inspire your next creation. \nClass fee is $85 per month which includes coffee\, tea and my famous home baked treats! \n2025 DATES \n8 FEB \n22 MARCH \n26 APRIL \n10 MAY \n14 JUNE \n12 JULY \n9 AUG \n13 SEPT \n11 OCT \n8 NOV \n13 DEC
URL:https://lorenauriarte.com/classes/2nd-saturday-class-60-stitches-warriewood-3/2025-06-14/
LOCATION:60 Stitches\, 1301/ 4 Daydream St\, Warriewood\, NSW\, 2101\, Australia
CATEGORIES:60 Stitches
ATTACH;FMTTYPE=image/jpeg:https://lorenauriarte.com/wp-content/uploads/2025/02/60-Stitches.jpg
END:VEVENT
BEGIN:VEVENT
DTSTART;TZID=Australia/Sydney:20250510T100000
DTEND;TZID=Australia/Sydney:20250510T150000
DTSTAMP:20260422T011030
CREATED:20250201T062247Z
LAST-MODIFIED:20250210T013148Z
UID:10000538-1746871200-1746889200@lorenauriarte.com
SUMMARY:2nd Saturday Class: 60 Stitches (Warriewood)
DESCRIPTION:Join a friendly group of quilters in this monthly class at 60 Stitches in Warriewood\, on Sydney’s Northern Beaches. \nBring your own project or choose from one of my designs. I’ve even been known to create something special for my regular students! With over 20 years of experience\, I’ll guide you through any technique\, whether you prefer hand or machine quilting. \nAll te cutting and pressing tools are there so all you need to bring is your project\, your machine and general sewing supplies. \nPlus\, you’ll have access to 60 Stitches’ beautiful selection of fabrics and notions to inspire your next creation. \nClass fee is $85 per month which includes coffee\, tea and my famous home baked treats! \n2025 DATES \n8 FEB \n22 MARCH \n26 APRIL \n10 MAY \n14 JUNE \n12 JULY \n9 AUG \n13 SEPT \n11 OCT \n8 NOV \n13 DEC
URL:https://lorenauriarte.com/classes/2nd-saturday-class-60-stitches-warriewood-3/2025-05-10/
LOCATION:60 Stitches\, 1301/ 4 Daydream St\, Warriewood\, NSW\, 2101\, Australia
CATEGORIES:60 Stitches
ATTACH;FMTTYPE=image/jpeg:https://lorenauriarte.com/wp-content/uploads/2025/02/60-Stitches.jpg
END:VEVENT
BEGIN:VEVENT
DTSTART;TZID=Australia/Sydney:20250208T100000
DTEND;TZID=Australia/Sydney:20250208T150000
DTSTAMP:20260422T011030
CREATED:20250201T062247Z
LAST-MODIFIED:20250210T013148Z
UID:10000537-1739008800-1739026800@lorenauriarte.com
SUMMARY:2nd Saturday Class: 60 Stitches (Warriewood)
DESCRIPTION:Join a friendly group of quilters in this monthly class at 60 Stitches in Warriewood\, on Sydney’s Northern Beaches. \nBring your own project or choose from one of my designs. I’ve even been known to create something special for my regular students! With over 20 years of experience\, I’ll guide you through any technique\, whether you prefer hand or machine quilting. \nAll te cutting and pressing tools are there so all you need to bring is your project\, your machine and general sewing supplies. \nPlus\, you’ll have access to 60 Stitches’ beautiful selection of fabrics and notions to inspire your next creation. \nClass fee is $85 per month which includes coffee\, tea and my famous home baked treats! \n2025 DATES \n8 FEB \n22 MARCH \n26 APRIL \n10 MAY \n14 JUNE \n12 JULY \n9 AUG \n13 SEPT \n11 OCT \n8 NOV \n13 DEC
URL:https://lorenauriarte.com/classes/2nd-saturday-class-60-stitches-warriewood-3/2025-02-08/
LOCATION:60 Stitches\, 1301/ 4 Daydream St\, Warriewood\, NSW\, 2101\, Australia
CATEGORIES:60 Stitches
ATTACH;FMTTYPE=image/jpeg:https://lorenauriarte.com/wp-content/uploads/2025/02/60-Stitches.jpg
END:VEVENT
BEGIN:VEVENT
DTSTART;TZID=Australia/Sydney:20241214T100000
DTEND;TZID=Australia/Sydney:20241214T150000
DTSTAMP:20260422T011030
CREATED:20240125T044551Z
LAST-MODIFIED:20240125T074353Z
UID:10000520-1734170400-1734188400@lorenauriarte.com
SUMMARY:2nd Saturday Class : 60 Stitches (Warriewood)
DESCRIPTION:More info\, choose date and payment here: \n2nd Saturday Class : Warriewood
URL:https://lorenauriarte.com/classes/2nd-saturday-class-60-stitches-warriewood-2/2024-12-14/
LOCATION:60 Stitches\, 1301/ 4 Daydream St\, Warriewood\, NSW\, 2101\, Australia
ORGANIZER;CN="60 Stitches":MAILTO:info@60stitches.com.au
END:VEVENT
BEGIN:VEVENT
DTSTART;TZID=Australia/Sydney:20241109T100000
DTEND;TZID=Australia/Sydney:20241109T150000
DTSTAMP:20260422T011030
CREATED:20240125T044551Z
LAST-MODIFIED:20240125T074353Z
UID:10000519-1731146400-1731164400@lorenauriarte.com
SUMMARY:2nd Saturday Class : 60 Stitches (Warriewood)
DESCRIPTION:More info\, choose date and payment here: \n2nd Saturday Class : Warriewood
URL:https://lorenauriarte.com/classes/2nd-saturday-class-60-stitches-warriewood-2/2024-11-09/
LOCATION:60 Stitches\, 1301/ 4 Daydream St\, Warriewood\, NSW\, 2101\, Australia
ORGANIZER;CN="60 Stitches":MAILTO:info@60stitches.com.au
END:VEVENT
BEGIN:VEVENT
DTSTART;TZID=Australia/Sydney:20241012T100000
DTEND;TZID=Australia/Sydney:20241012T150000
DTSTAMP:20260422T011030
CREATED:20240125T044551Z
LAST-MODIFIED:20240125T074353Z
UID:10000518-1728727200-1728745200@lorenauriarte.com
SUMMARY:2nd Saturday Class : 60 Stitches (Warriewood)
DESCRIPTION:More info\, choose date and payment here: \n2nd Saturday Class : Warriewood
URL:https://lorenauriarte.com/classes/2nd-saturday-class-60-stitches-warriewood-2/2024-10-12/
LOCATION:60 Stitches\, 1301/ 4 Daydream St\, Warriewood\, NSW\, 2101\, Australia
ORGANIZER;CN="60 Stitches":MAILTO:info@60stitches.com.au
END:VEVENT
BEGIN:VEVENT
DTSTART;TZID=Australia/Sydney:20240914T100000
DTEND;TZID=Australia/Sydney:20240914T150000
DTSTAMP:20260422T011030
CREATED:20240125T044551Z
LAST-MODIFIED:20240125T074353Z
UID:10000517-1726308000-1726326000@lorenauriarte.com
SUMMARY:2nd Saturday Class : 60 Stitches (Warriewood)
DESCRIPTION:More info\, choose date and payment here: \n2nd Saturday Class : Warriewood
URL:https://lorenauriarte.com/classes/2nd-saturday-class-60-stitches-warriewood-2/2024-09-14/
LOCATION:60 Stitches\, 1301/ 4 Daydream St\, Warriewood\, NSW\, 2101\, Australia
ORGANIZER;CN="60 Stitches":MAILTO:info@60stitches.com.au
END:VEVENT
BEGIN:VEVENT
DTSTART;TZID=Australia/Sydney:20240810T100000
DTEND;TZID=Australia/Sydney:20240810T150000
DTSTAMP:20260422T011030
CREATED:20240125T044551Z
LAST-MODIFIED:20240125T074353Z
UID:10000516-1723284000-1723302000@lorenauriarte.com
SUMMARY:2nd Saturday Class : 60 Stitches (Warriewood)
DESCRIPTION:More info\, choose date and payment here: \n2nd Saturday Class : Warriewood
URL:https://lorenauriarte.com/classes/2nd-saturday-class-60-stitches-warriewood-2/2024-08-10/
LOCATION:60 Stitches\, 1301/ 4 Daydream St\, Warriewood\, NSW\, 2101\, Australia
ORGANIZER;CN="60 Stitches":MAILTO:info@60stitches.com.au
END:VEVENT
BEGIN:VEVENT
DTSTART;TZID=Australia/Sydney:20240713T100000
DTEND;TZID=Australia/Sydney:20240713T150000
DTSTAMP:20260422T011030
CREATED:20240125T044551Z
LAST-MODIFIED:20240125T074353Z
UID:10000515-1720864800-1720882800@lorenauriarte.com
SUMMARY:2nd Saturday Class : 60 Stitches (Warriewood)
DESCRIPTION:More info\, choose date and payment here: \n2nd Saturday Class : Warriewood
URL:https://lorenauriarte.com/classes/2nd-saturday-class-60-stitches-warriewood-2/2024-07-13/
LOCATION:60 Stitches\, 1301/ 4 Daydream St\, Warriewood\, NSW\, 2101\, Australia
ORGANIZER;CN="60 Stitches":MAILTO:info@60stitches.com.au
END:VEVENT
BEGIN:VEVENT
DTSTART;TZID=Australia/Sydney:20240511T100000
DTEND;TZID=Australia/Sydney:20240511T150000
DTSTAMP:20260422T011030
CREATED:20240125T044551Z
LAST-MODIFIED:20240125T074353Z
UID:10000514-1715421600-1715439600@lorenauriarte.com
SUMMARY:2nd Saturday Class : 60 Stitches (Warriewood)
DESCRIPTION:More info\, choose date and payment here: \n2nd Saturday Class : Warriewood
URL:https://lorenauriarte.com/classes/2nd-saturday-class-60-stitches-warriewood-2/2024-05-11/
LOCATION:60 Stitches\, 1301/ 4 Daydream St\, Warriewood\, NSW\, 2101\, Australia
ORGANIZER;CN="60 Stitches":MAILTO:info@60stitches.com.au
END:VEVENT
BEGIN:VEVENT
DTSTART;TZID=Australia/Sydney:20240309T100000
DTEND;TZID=Australia/Sydney:20240309T150000
DTSTAMP:20260422T011030
CREATED:20240125T044551Z
LAST-MODIFIED:20240125T074353Z
UID:10000513-1709978400-1709996400@lorenauriarte.com
SUMMARY:2nd Saturday Class : 60 Stitches (Warriewood)
DESCRIPTION:More info\, choose date and payment here: \n2nd Saturday Class : Warriewood
URL:https://lorenauriarte.com/classes/2nd-saturday-class-60-stitches-warriewood-2/2024-03-09/
LOCATION:60 Stitches\, 1301/ 4 Daydream St\, Warriewood\, NSW\, 2101\, Australia
ORGANIZER;CN="60 Stitches":MAILTO:info@60stitches.com.au
END:VEVENT
BEGIN:VEVENT
DTSTART;TZID=Australia/Sydney:20240210T100000
DTEND;TZID=Australia/Sydney:20240210T150000
DTSTAMP:20260422T011030
CREATED:20231222T025422Z
LAST-MODIFIED:20240119T002823Z
UID:10000472-1707559200-1707577200@lorenauriarte.com
SUMMARY:2nd Saturday Class : 60 Stitches (Warriewood)
DESCRIPTION:More info\, choose date and payment here: \n2nd Saturday Class : Warriewood \n \n 
URL:https://lorenauriarte.com/classes/2nd-saturday-class-60-stitches-warriewood/
LOCATION:60 Stitches\, 1301/ 4 Daydream St\, Warriewood\, NSW\, 2101\, Australia
ORGANIZER;CN="60 Stitches":MAILTO:info@60stitches.com.au
END:VEVENT
BEGIN:VEVENT
DTSTART;TZID=Australia/Sydney:20231209T100000
DTEND;TZID=Australia/Sydney:20231209T150000
DTSTAMP:20260422T011030
CREATED:20230824T002250Z
LAST-MODIFIED:20230824T002250Z
UID:10000469-1702116000-1702134000@lorenauriarte.com
SUMMARY:60 Stitches : Warriewood
DESCRIPTION:Ring Cycles Quilt is one of the options. \nMonthly class in Warriewood at 6o Stitches. \nBook here: https://lorenauriarte.com/product/2nd-saturday-class-warriewood/
URL:https://lorenauriarte.com/classes/60-stitches-warriewood-9/
LOCATION:60 Stitches\, 1301/ 4 Daydream St\, Warriewood\, NSW\, 2101\, Australia
END:VEVENT
BEGIN:VEVENT
DTSTART;TZID=Australia/Sydney:20231111T100000
DTEND;TZID=Australia/Sydney:20231111T150000
DTSTAMP:20260422T011030
CREATED:20230823T235935Z
LAST-MODIFIED:20230824T000008Z
UID:10000293-1699696800-1699714800@lorenauriarte.com
SUMMARY:60 Stitches : Warriewood
DESCRIPTION:Ring Cycles Quilt is one of the options. \nMonthly class in Warriewood at 6o Stitches. \nBook here: https://lorenauriarte.com/product/2nd-saturday-class-warriewood/
URL:https://lorenauriarte.com/classes/60-stitches-warriewood-8/
LOCATION:60 Stitches\, 1301/ 4 Daydream St\, Warriewood\, NSW\, 2101\, Australia
END:VEVENT
BEGIN:VEVENT
DTSTART;TZID=Australia/Sydney:20230812T100000
DTEND;TZID=Australia/Sydney:20230812T150000
DTSTAMP:20260422T011030
CREATED:20230613T072941Z
LAST-MODIFIED:20230731T020453Z
UID:10000447-1691834400-1691852400@lorenauriarte.com
SUMMARY:60 Stitches : Warriewood
DESCRIPTION:Ring Cycles Quilt is one of the options. \nMonthly class in Warriewood at 6o Stitches. \nBook here: https://lorenauriarte.com/product/2nd-saturday-class-warriewood/
URL:https://lorenauriarte.com/classes/60-stitches-warriewood-7/
LOCATION:60 Stitches\, 1301/ 4 Daydream St\, Warriewood\, NSW\, 2101\, Australia
END:VEVENT
BEGIN:VEVENT
DTSTART;VALUE=DATE:20230722
DTEND;VALUE=DATE:20230724
DTSTAMP:20260422T011030
CREATED:20230613T072252Z
LAST-MODIFIED:20230613T072252Z
UID:10000445-1689984000-1690156799@lorenauriarte.com
SUMMARY:Quilt Coat Workshop : 60 Stitches
DESCRIPTION:Book Online here: https://60stitches.com.au/products/lorena-uriarte-quilt-coat-class \n 
URL:https://lorenauriarte.com/classes/quilt-coat-workshop-60-stitches/
LOCATION:60 Stitches\, 1301/ 4 Daydream St\, Warriewood\, NSW\, 2101\, Australia
END:VEVENT
BEGIN:VEVENT
DTSTART;TZID=Australia/Sydney:20230708T100000
DTEND;TZID=Australia/Sydney:20230708T150000
DTSTAMP:20260422T011030
CREATED:20230613T064946Z
LAST-MODIFIED:20230628T221746Z
UID:10000443-1688810400-1688828400@lorenauriarte.com
SUMMARY:60 Stitches : Warriewood
DESCRIPTION:Book online here: https://lorenauriarte.com/product/2nd-saturday-class-warriewood/ \nor send me an email for more information
URL:https://lorenauriarte.com/classes/60-stitches-warriewood-6/
LOCATION:60 Stitches\, 1301/ 4 Daydream St\, Warriewood\, NSW\, 2101\, Australia
ATTACH;FMTTYPE=image/jpeg:https://lorenauriarte.com/wp-content/uploads/2023/06/Lorena-denim-jacket.jpg
END:VEVENT
BEGIN:VEVENT
DTSTART;TZID=Australia/Sydney:20230610T100000
DTEND;TZID=Australia/Sydney:20230610T150000
DTSTAMP:20260422T011030
CREATED:20221218T114216Z
LAST-MODIFIED:20230123T022019Z
UID:10000419-1686391200-1686409200@lorenauriarte.com
SUMMARY:60 Stitches : Warriewood
DESCRIPTION:BOOK ONLINE HERE \n2nd Saturday Class : Warriewood
URL:https://lorenauriarte.com/classes/60-stitches-warriewood-5/
LOCATION:60 Stitches\, 1301/ 4 Daydream St\, Warriewood\, NSW\, 2101\, Australia
END:VEVENT
BEGIN:VEVENT
DTSTART;TZID=Australia/Sydney:20230513T100000
DTEND;TZID=Australia/Sydney:20230513T150000
DTSTAMP:20260422T011030
CREATED:20221218T113409Z
LAST-MODIFIED:20230123T021853Z
UID:10000241-1683972000-1683990000@lorenauriarte.com
SUMMARY:60 Stitches : Warriewood
DESCRIPTION:BOOK ONLINE HERE \n2nd Saturday Class : Warriewood
URL:https://lorenauriarte.com/classes/60-stitches-warriewood-4/
LOCATION:60 Stitches\, 1301/ 4 Daydream St\, Warriewood\, NSW\, 2101\, Australia
END:VEVENT
BEGIN:VEVENT
DTSTART;TZID=Australia/Sydney:20230408T100000
DTEND;TZID=Australia/Sydney:20230408T160000
DTSTAMP:20260422T011030
CREATED:20221218T095225Z
LAST-MODIFIED:20230401T221233Z
UID:10000236-1680948000-1680969600@lorenauriarte.com
SUMMARY:60 Stitches : Warriewood
DESCRIPTION:8 April \n2nd Saturday Class – \nNOTE: THIS IS EASTER SATURDAY \n10am – 3pm \ninc. lunch and morning tea \nplease make a booking for catering purposes. \nRing Cycles Quilt
URL:https://lorenauriarte.com/classes/60-stitches-warriewood-3/
LOCATION:60 Stitches\, 1301/ 4 Daydream St\, Warriewood\, NSW\, 2101\, Australia
END:VEVENT
BEGIN:VEVENT
DTSTART;TZID=Australia/Sydney:20230311T100000
DTEND;TZID=Australia/Sydney:20230311T150000
DTSTAMP:20260422T011030
CREATED:20221218T061852Z
LAST-MODIFIED:20230123T021602Z
UID:10000411-1678528800-1678546800@lorenauriarte.com
SUMMARY:60 Stitches : Warriewood
DESCRIPTION:2nd Saturday Class \nBOOK HERE \n2nd Saturday Class : Warriewood \n \n 
URL:https://lorenauriarte.com/classes/60-stitches-warriewood-2/
LOCATION:60 Stitches\, 1301/ 4 Daydream St\, Warriewood\, NSW\, 2101\, Australia
END:VEVENT
BEGIN:VEVENT
DTSTART;TZID=Australia/Sydney:20230211T100000
DTEND;TZID=Australia/Sydney:20230211T150000
DTSTAMP:20260422T011030
CREATED:20221216T023707Z
LAST-MODIFIED:20230123T021443Z
UID:10000404-1676109600-1676127600@lorenauriarte.com
SUMMARY:60 Stitches: Warriewood
DESCRIPTION:2nd Saturday Class : Warriewood
URL:https://lorenauriarte.com/classes/60-stitches-warriewood/
LOCATION:60 Stitches\, 1301/ 4 Daydream St\, Warriewood\, NSW\, 2101\, Australia
END:VEVENT
BEGIN:VEVENT
DTSTART;TZID=Australia/Sydney:20221210T100000
DTEND;TZID=Australia/Sydney:20221210T150000
DTSTAMP:20260422T011030
CREATED:20220706T015559Z
LAST-MODIFIED:20220812T043000Z
UID:10000387-1670666400-1670684400@lorenauriarte.com
SUMMARY:Warriewood : 60 Stitches
DESCRIPTION:  \n \nMonthly 2nd Saturdays \nDATES:\n10 December \n$85 fee includes morning tea and lunch \nBring your own pattern\, design something unique or work on one of my designs \nNEW VENUE! \n60 Stitches \n2301 / Level 3 \n4 Daydream St\, Warriewood \nhttps://lorenauriarte.com/product/warriewood-60-stitches/
URL:https://lorenauriarte.com/classes/warriewood-60-stitches-3/
LOCATION:60 Stitches\, 1301/ 4 Daydream St\, Warriewood\, NSW\, 2101\, Australia
END:VEVENT
BEGIN:VEVENT
DTSTART;TZID=Australia/Sydney:20221112T100000
DTEND;TZID=Australia/Sydney:20221112T150000
DTSTAMP:20260422T011030
CREATED:20220706T015452Z
LAST-MODIFIED:20220812T043141Z
UID:10000386-1668247200-1668265200@lorenauriarte.com
SUMMARY:Warriewood : 60 Stitches
DESCRIPTION:  \n \nMonthly 2nd Saturdays \nDATES:\n12 November \n10 December \n$85 fee includes morning tea and lunch \nBring your own pattern\, design something unique or work on one of my designs \nNEW VENUE! \n60 Stitches \n2301 / Level 3 \n4 Daydream St\, Warriewood \nhttps://lorenauriarte.com/product/warriewood-60-stitches/ \n 
URL:https://lorenauriarte.com/classes/warriewood-60-stitches-2/
LOCATION:60 Stitches\, 1301/ 4 Daydream St\, Warriewood\, NSW\, 2101\, Australia
END:VEVENT
BEGIN:VEVENT
DTSTART;TZID=Australia/Sydney:20221029T100000
DTEND;TZID=Australia/Sydney:20221029T150000
DTSTAMP:20260422T011030
CREATED:20220706T015229Z
LAST-MODIFIED:20220812T043203Z
UID:10000385-1667037600-1667055600@lorenauriarte.com
SUMMARY:Warriewood: 60 Stitches
DESCRIPTION:  \n \nMonthly 2nd Saturdays \nDATES: \n29 October \n12 November \n10 December \n$85 fee includes morning tea and lunch \nBring your own pattern\, design something unique or work on one of my designs \nNEW VENUE! \n60 Stitches \n2301 / Level 3 \n4 Daydream St\, Warriewood \nhttps://lorenauriarte.com/product/warriewood-60-stitches/ \n 
URL:https://lorenauriarte.com/classes/warriewood-60-stitches/
LOCATION:60 Stitches\, 1301/ 4 Daydream St\, Warriewood\, NSW\, 2101\, Australia
ATTACH;FMTTYPE=image/jpeg:https://lorenauriarte.com/wp-content/uploads/2022/04/Lorena-camouflaged.jpg
END:VEVENT
BEGIN:VEVENT
DTSTART;TZID=Australia/Sydney:20220709T100000
DTEND;TZID=Australia/Sydney:20220709T150000
DTSTAMP:20260422T011030
CREATED:20220408T111344Z
LAST-MODIFIED:20220706T014647Z
UID:10000377-1657360800-1657378800@lorenauriarte.com
SUMMARY:2nd Saturday Class : Warriewood
DESCRIPTION:  \n \nMonthly 2nd Saturdays \nDATES:\n9 July \n27 August \n10 September \n29 October \n  \n12 November \n10 December \n$85 fee includes morning tea and lunch \nBring your own pattern\, design something unique or work on one of my designs \nNEW VENUE! \n60 Stitches \n2301 / Level 3 \n4 Daydream St\, Warriewood
URL:https://lorenauriarte.com/classes/2nd-saturday-class-warriewood-4/
LOCATION:60 Stitches\, 1301/ 4 Daydream St\, Warriewood\, NSW\, 2101\, Australia
ATTACH;FMTTYPE=image/jpeg:https://lorenauriarte.com/wp-content/uploads/2022/04/Lorena-camouflaged.jpg
ORGANIZER;CN="Lorena Uriarte":MAILTO:lorena@lorenauriarte.com
END:VEVENT
END:VCALENDAR