BEGIN:VCALENDAR
VERSION:2.0
PRODID:-//Lorena Uriarte - ECPv6.15.20//NONSGML v1.0//EN
CALSCALE:GREGORIAN
METHOD:PUBLISH
X-WR-CALNAME:Lorena Uriarte
X-ORIGINAL-URL:https://lorenauriarte.com
X-WR-CALDESC:Events for Lorena Uriarte
REFRESH-INTERVAL;VALUE=DURATION:PT1H
X-Robots-Tag:noindex
X-PUBLISHED-TTL:PT1H
BEGIN:VTIMEZONE
TZID:Australia/Sydney
BEGIN:STANDARD
TZOFFSETFROM:+1100
TZOFFSETTO:+1000
TZNAME:AEST
DTSTART:20210403T160000
END:STANDARD
BEGIN:DAYLIGHT
TZOFFSETFROM:+1000
TZOFFSETTO:+1100
TZNAME:AEDT
DTSTART:20211002T160000
END:DAYLIGHT
BEGIN:STANDARD
TZOFFSETFROM:+1100
TZOFFSETTO:+1000
TZNAME:AEST
DTSTART:20220402T160000
END:STANDARD
BEGIN:DAYLIGHT
TZOFFSETFROM:+1000
TZOFFSETTO:+1100
TZNAME:AEDT
DTSTART:20221001T160000
END:DAYLIGHT
BEGIN:STANDARD
TZOFFSETFROM:+1100
TZOFFSETTO:+1000
TZNAME:AEST
DTSTART:20230401T160000
END:STANDARD
BEGIN:DAYLIGHT
TZOFFSETFROM:+1000
TZOFFSETTO:+1100
TZNAME:AEDT
DTSTART:20230930T160000
END:DAYLIGHT
END:VTIMEZONE
BEGIN:VEVENT
DTSTART;TZID=Australia/Sydney:20221029T100000
DTEND;TZID=Australia/Sydney:20221029T150000
DTSTAMP:20260422T042019
CREATED:20220706T015229Z
LAST-MODIFIED:20220812T043203Z
UID:10000385-1667037600-1667055600@lorenauriarte.com
SUMMARY:Warriewood: 60 Stitches
DESCRIPTION:  \n \nMonthly 2nd Saturdays \nDATES: \n29 October \n12 November \n10 December \n$85 fee includes morning tea and lunch \nBring your own pattern\, design something unique or work on one of my designs \nNEW VENUE! \n60 Stitches \n2301 / Level 3 \n4 Daydream St\, Warriewood \nhttps://lorenauriarte.com/product/warriewood-60-stitches/ \n 
URL:https://lorenauriarte.com/classes/warriewood-60-stitches/
LOCATION:60 Stitches\, 1301/ 4 Daydream St\, Warriewood\, NSW\, 2101\, Australia
ATTACH;FMTTYPE=image/jpeg:https://lorenauriarte.com/wp-content/uploads/2022/04/Lorena-camouflaged.jpg
END:VEVENT
BEGIN:VEVENT
DTSTART;TZID=Australia/Sydney:20220709T100000
DTEND;TZID=Australia/Sydney:20220709T150000
DTSTAMP:20260422T042019
CREATED:20220408T111344Z
LAST-MODIFIED:20220706T014647Z
UID:10000377-1657360800-1657378800@lorenauriarte.com
SUMMARY:2nd Saturday Class : Warriewood
DESCRIPTION:  \n \nMonthly 2nd Saturdays \nDATES:\n9 July \n27 August \n10 September \n29 October \n  \n12 November \n10 December \n$85 fee includes morning tea and lunch \nBring your own pattern\, design something unique or work on one of my designs \nNEW VENUE! \n60 Stitches \n2301 / Level 3 \n4 Daydream St\, Warriewood
URL:https://lorenauriarte.com/classes/2nd-saturday-class-warriewood-4/
LOCATION:60 Stitches\, 1301/ 4 Daydream St\, Warriewood\, NSW\, 2101\, Australia
ATTACH;FMTTYPE=image/jpeg:https://lorenauriarte.com/wp-content/uploads/2022/04/Lorena-camouflaged.jpg
ORGANIZER;CN="Lorena Uriarte":MAILTO:lorena@lorenauriarte.com
END:VEVENT
END:VCALENDAR